BEGIN:VCALENDAR
VERSION:2.0
PRODID:-//wp-events-plugin.com//7.2.3.1//EN
TZID:America/Detroit
X-WR-TIMEZONE:America/Detroit
BEGIN:VEVENT
UID:31790@arabamerica.com
DTSTART;TZID=America/Detroit:20231021T180000
DTEND;TZID=America/Detroit:20231021T180000
DTSTAMP:20231017T162005Z
URL:https://www.arabamerica.com/events/syracuse-palestinian-culture-night/
SUMMARY:Syracuse-Palestinian Culture Night
DESCRIPTION:\n\nCHANGING LIVES THROUGH EDUCATION\n\nSUPPORT EDUCATION IN PA
 LESTINE\n\n&nbsp\;\n\nWith Special Guests:\n\n\nAhmad Abu Hatab - Folklori
 c Singer\n\nWatan Dabkeh\n\n&nbsp\;\n\n*Ticket price includes dinner and e
 ntertainment
ATTACH;FMTTYPE=image/jpeg:https://www.arabamerica.com/wp-content/uploads/2
 023/10/event_description_image_124721_1695404833_c591a.jpg
CATEGORIES:#arabic,Arab,Arab Ameircan Event,Arab
 American,culture,Food,Palestine,Palestinian,Palestinian
 Culture,Palestinian Identity,Palestinian Music
LOCATION:Sheraton Syracuse University Hote\, 801 University Ave\, Syracuse\
 , NY\, United States
GEO:43.041038;-76.133828
X-APPLE-STRUCTURED-LOCATION;VALUE=URI;X-ADDRESS=801 University Ave\, Syracu
 se\, NY\, United States;X-APPLE-RADIUS=100;X-TITLE=Sheraton Syracuse Unive
 rsity Hote:geo:43.041038,-76.133828
END:VEVENT
BEGIN:VTIMEZONE
TZID:America/Detroit
X-LIC-LOCATION:America/Detroit
BEGIN:DAYLIGHT
DTSTART:20230312T030000
TZOFFSETFROM:-0500
TZOFFSETTO:-0400
TZNAME:EDT
END:DAYLIGHT
END:VTIMEZONE
END:VCALENDAR