BEGIN:VCALENDAR
VERSION:2.0
PRODID:-//wp-events-plugin.com//7.2.3.1//EN
TZID:America/Detroit
X-WR-TIMEZONE:America/Detroit
BEGIN:VEVENT
UID:34284@arabamerica.com
DTSTART;TZID=America/Detroit:20250530T190000
DTEND;TZID=America/Detroit:20250530T213000
DTSTAMP:20250407T191304Z
URL:https://www.arabamerica.com/events/syrian-american-medical-society-sam
 s-asco-reception/
SUMMARY:Syrian American Medical Society (SAMS) ASCO Reception
DESCRIPTION:\n\nCome join Drs Bassel Atassi and Amar Hams for a networking 
 reception hosted by the Syrian American Medical Society (SAMS) during ASCO
 \n\n\n\n\n\n\n\n\n\n\n\n\n\n
ATTACH;FMTTYPE=image/jpeg:https://www.arabamerica.com/wp-content/uploads/2
 025/04/Screenshot-2025-04-07-at-2.19.28 PM.png
CATEGORIES:#arabic,Arab,Arab Ameircan Event,Arab
 American,Community,culture,Lecture
LOCATION:Fatpour Tap Works - McCormick\, 2206 South Indiana Avenue \, Chica
 go\, Illinois\, 60616\, United States
GEO:41.852685;-87.622425
X-APPLE-STRUCTURED-LOCATION;VALUE=URI;X-ADDRESS=2206 South Indiana Avenue \
 , Chicago\, Illinois\, 60616\, United States;X-APPLE-RADIUS=100;X-TITLE=Fa
 tpour Tap Works - McCormick:geo:41.852685,-87.622425
END:VEVENT
BEGIN:VTIMEZONE
TZID:America/Detroit
X-LIC-LOCATION:America/Detroit
BEGIN:DAYLIGHT
DTSTART:20250309T030000
TZOFFSETFROM:-0500
TZOFFSETTO:-0400
TZNAME:EDT
END:DAYLIGHT
END:VTIMEZONE
END:VCALENDAR