BEGIN:VCALENDAR
VERSION:2.0
PRODID:-//wp-events-plugin.com//7.2.3.1//EN
TZID:America/Detroit
X-WR-TIMEZONE:America/Detroit
BEGIN:VEVENT
UID:35067@arabamerica.com
DTSTART;TZID=America/Detroit:20250906T120000
DTEND;TZID=America/Detroit:20250906T140000
DTSTAMP:20250903T041710Z
URL:https://www.arabamerica.com/events/syrian-brunch-with-ziad-adamo/
SUMMARY:Syrian Brunch with Ziad Adamo
DESCRIPTION:Join us for a morning that celebrates the rich culinary traditi
 ons of Syria with a two-course breakfast rooted in warmth\, hospitality\, 
 and vibrant flavor. The experience includes a flowing tea service and an i
 nvitation to slow down and savor.\n\nThis special event is crafted by Ziad
  Adamo\, chef of the beloved Pittsburgh institution Ali Baba. A long-stand
 ing standard for Syrian cuisine in the city\, Ali Baba has recently underg
 one a transformation under Ziad’s guidance—bringing a fresh\, modern p
 erspective to traditional dishes while honoring their deep roots.\n\nThe m
 enu is vegetarian-friendly\, though we regret that it is not gluten-free. 
 Tax &amp\; Gratuity included
ATTACH;FMTTYPE=image/jpeg:https://www.arabamerica.com/wp-content/uploads/2
 025/09/IMG_0473.jpeg
LOCATION:Studio Lithe\, 5746 Baum Boulevard #Fl3\, Pittsburgh\, Pennsylvani
 a\, 15206\, United States
GEO:40.458667;-79.932017
X-APPLE-STRUCTURED-LOCATION;VALUE=URI;X-ADDRESS=5746 Baum Boulevard #Fl3\, 
 Pittsburgh\, Pennsylvania\, 15206\, United States;X-APPLE-RADIUS=100;X-TIT
 LE=Studio Lithe:geo:40.458667,-79.932017
END:VEVENT
BEGIN:VTIMEZONE
TZID:America/Detroit
X-LIC-LOCATION:America/Detroit
BEGIN:DAYLIGHT
DTSTART:20250309T030000
TZOFFSETFROM:-0500
TZOFFSETTO:-0400
TZNAME:EDT
END:DAYLIGHT
END:VTIMEZONE
END:VCALENDAR