BEGIN:VCALENDAR
VERSION:2.0
PRODID:-//wp-events-plugin.com//7.2.3.1//EN
TZID:America/Detroit
X-WR-TIMEZONE:America/Detroit
BEGIN:VEVENT
UID:35474@arabamerica.com
DTSTART;TZID=America/Detroit:20251221T180000
DTEND;TZID=America/Detroit:20251221T210000
DTSTAMP:20251125T174003Z
URL:https://www.arabamerica.com/events/syrian-freedom-fest-syrian-freedom-
 fest-%d8%ad%d9%81%d9%84%d8%a9-%d8%a7%d9%84%d8%b0%d9%83%d8%b1%d9%89-%d8%a7%
 d9%84%d8%b3%d9%86%d9%88%d9%8a%d8%a9-%d9%84%d9%84%d8%aa%d8%ad%d8%b1%d9%8a/
SUMMARY:Syrian Freedom Fest –Syrian Freedom Fest – حفلة الذكر
 ى السنوية للتحرير سوريا حفلة الذكرى السن
 وية للتحرير سوريا
DESCRIPTION:\nيا حبايبنا! انضموا إلينا في حفلة ا
 لذكرى السنوية للتحرير سوريا لنحتفل وندع
 م قضية حرية سوريا معاً!\n\n\n\n\n&nbsp\;\n\nWelcome to t
 he Syrian Freedom Fest – حفلة الذكرى السنوية للتح
 رير سوريا! Join us at the Zakat Foundation of America Community C
 enter for a day filled with celebration\, remembrance\, and solidarity. T
 his event is a fantastic opportunity to come together and honor the victor
 y of the Syrian Revolution. Enjoy a live open mic\, delicious food\, tradi
 tional dances\, and much more. Let's commemorate the resilience of the Syr
 ian people and show our support for their journey towards liberation. Don'
 t miss out on this meaningful gathering!\n\n\n
ATTACH;FMTTYPE=image/jpeg:https://www.arabamerica.com/wp-content/uploads/2
 025/11/https___cdn.evbuc_.com_images_1171049369_298155821673_1_original.jp
 eg
LOCATION:Zakat Foundation of America Community Center\, 5110 Revere Road\, 
 Durham\, NC\, 27713\, United States
GEO:35.894347;-78.911264
X-APPLE-STRUCTURED-LOCATION;VALUE=URI;X-ADDRESS=5110 Revere Road\, Durham\,
  NC\, 27713\, United States;X-APPLE-RADIUS=100;X-TITLE=Zakat Foundation of
  America Community Center:geo:35.894347,-78.911264
END:VEVENT
BEGIN:VTIMEZONE
TZID:America/Detroit
X-LIC-LOCATION:America/Detroit
BEGIN:STANDARD
DTSTART:20251102T010000
TZOFFSETFROM:-0400
TZOFFSETTO:-0500
TZNAME:EST
END:STANDARD
END:VTIMEZONE
END:VCALENDAR