BEGIN:VCALENDAR
VERSION:2.0
PRODID:-//wp-events-plugin.com//7.2.3.1//EN
TZID:America/Detroit
X-WR-TIMEZONE:America/Detroit
BEGIN:VEVENT
UID:35567@arabamerica.com
DTSTART;TZID=America/New_York:20260112T190000
DTEND;TZID=America/New_York:20260112T213000
DTSTAMP:20251216T162259Z
URL:https://www.arabamerica.com/events/syrian-popup-dinner-lammeh-x-kinan/
SUMMARY:Syrian Popup Dinner: Lammeh x Kinan
DESCRIPTION:NEW YORK\, NY\n\nSyrian dinner and wine pairing with Lammeh and
  Syrian chef Kinan\, flying in from Copenhagen.\n\n\n\n\nSyrian Dinner &am
 p\; Wine Pairing with Lammeh — $150 + tax\n\nJoin us for an intimate Syr
 ian dinner and wine pairing hosted by Lammeh\, featuring Syrian chef Kinan
 \, flying in from Copenhagen for one night only.\nWe’ll open the evening
  with a handcrafted cocktail and mocktail\, then settle into a multi-cours
 e meal while talking Syrian food.\n\nSommelier Megan Anderson will lead th
 e wine journey as we sip Bargylus—Syiran wine praised by Jancis Robinson
  as “arguably the finest wine of the Eastern Mediterranean.”\nAs the 
 old wisdom goes: if they grow together\, they go together.\n\nAnd because
  a Lammeh pop-up never happens without art in the room\, we have a surpris
 e performance on the way—announcement coming soon.\n\nLimited seats.\nTi
 ckets: www.lammeh.nyc\n\n\n
ATTACH;FMTTYPE=image/jpeg:https://www.arabamerica.com/wp-content/uploads/2
 025/12/Screenshot-2025-12-16-at-11.21.26-AM.png
LOCATION:175 Canal St\, 175 Canal St\, New York\, NY\, 10013\, United State
 s
GEO:40.716891;-73.997255
X-APPLE-STRUCTURED-LOCATION;VALUE=URI;X-ADDRESS=175 Canal St\, New York\, N
 Y\, 10013\, United States;X-APPLE-RADIUS=100;X-TITLE=175 Canal St:geo:40.7
 16891,-73.997255
END:VEVENT
BEGIN:VTIMEZONE
TZID:America/New_York
X-LIC-LOCATION:America/New_York
BEGIN:STANDARD
DTSTART:20251102T010000
TZOFFSETFROM:-0400
TZOFFSETTO:-0500
TZNAME:EST
END:STANDARD
END:VTIMEZONE
END:VCALENDAR