BEGIN:VCALENDAR
VERSION:2.0
PRODID:-//wp-events-plugin.com//7.2.3.1//EN
TZID:America/Detroit
X-WR-TIMEZONE:America/Detroit
BEGIN:VEVENT
UID:35171@arabamerica.com
DTSTART;TZID=America/Detroit:20251008T100000
DTEND;TZID=America/Detroit:20251008T130000
DTSTAMP:20250930T155857Z
URL:https://www.arabamerica.com/events/syrias-minorities-and-the-challenge
 -of-democratic-transition/
SUMMARY:Syria's Minorities and the Challenge of Democratic Transition
DESCRIPTION:WASHINGTON\, DC\n\n\n\nSyria's Minorities and the Challenge of 
 Democratic Transition\n\nVenue: 1800 Massachusetts Avenue NW\, Suite 401\,
  Washington\, DC 20036 and online via livestreaming (link to be shared upo
 n registration)\n\nDate: October 8\, 2025 at 10:00 AM (Eastern Time)\n\nTh
 is event marks the official launch of our comprehensive research report an
 alyzing minority representation and inclusion in Syria's transitional gove
 rnance under Ahmad Al Sharaa. The report examines the exclusion of various
  minority groups in the new system in Syria and offers policy recommendati
 ons to help Syria avoid sectarian violence and ensure genuine representati
 on of minority groups.
ATTACH;FMTTYPE=image/jpeg:https://www.arabamerica.com/wp-content/uploads/2
 025/09/MINOR.jpeg
LOCATION:800 Massachusetts Ave NW suite 401\, 1800 Massachusetts Avenue Nor
 thwest #suite 401 \, Washington \, DC\, 20036\, United States
GEO:38.908758;-77.042254
X-APPLE-STRUCTURED-LOCATION;VALUE=URI;X-ADDRESS=1800 Massachusetts Avenue N
 orthwest #suite 401 \, Washington \, DC\, 20036\, United States;X-APPLE-RA
 DIUS=100;X-TITLE=800 Massachusetts Ave NW suite 401:geo:38.908758,-77.0422
 54
END:VEVENT
BEGIN:VTIMEZONE
TZID:America/Detroit
X-LIC-LOCATION:America/Detroit
BEGIN:DAYLIGHT
DTSTART:20250309T030000
TZOFFSETFROM:-0500
TZOFFSETTO:-0400
TZNAME:EDT
END:DAYLIGHT
END:VTIMEZONE
END:VCALENDAR