BEGIN:VCALENDAR
VERSION:2.0
PRODID:-//wp-events-plugin.com//7.2.3.1//EN
TZID:America/Detroit
X-WR-TIMEZONE:America/Detroit
BEGIN:VEVENT
UID:33877@arabamerica.com
DTSTART;TZID=America/Detroit:20250118T200000
DTEND;TZID=America/Detroit:20250118T200000
DTSTAMP:20241224T021800Z
URL:https://www.arabamerica.com/events/tamer-ashour-in-dallas/
SUMMARY:Tamer Ashour in Dallas
DESCRIPTION:DALLAS\, TX\n\n\n\n\n\n\n\n\n\nKeme Production is excited to be
  bringing you Egypt's pop star Tamer Ashour on his first North America Tou
 r! We can’t wait for this night to remember with Tamer Ashour at Gilley'
 s South Side Music Hall on Saturday January 18th\, 2025\n\nTickets guarant
 ee seating within a specific section but seats are not assigned for each t
 icket. Seating within each section will be based on a first come first ser
 ve basis. See seating chart below.\nDoors at 8:00 pm [Show at 9:00 pm]. A 
 valid ID is required for entry.\n\nAll ticket sales are final. Tickets are
  non-refundable.\n\n\n\n\n\n\n\n\n\n\n\n\n\n\n\n\n\n\n\n\nTags\n\n\n\n
ATTACH;FMTTYPE=image/jpeg:https://www.arabamerica.com/wp-content/uploads/2
 024/12/https___cdn.evbuc_.com_images_906910773_326257681271_1_original.jpe
 g
LOCATION:Gilley's Dallas South Side Music Hall\, 1135 Botham Jean Boulevard
 \, DALLAS\, TX\, United States
GEO:32.768601;-96.797845
X-APPLE-STRUCTURED-LOCATION;VALUE=URI;X-ADDRESS=1135 Botham Jean Boulevard\
 , DALLAS\, TX\, United States;X-APPLE-RADIUS=100;X-TITLE=Gilley's Dallas S
 outh Side Music Hall:geo:32.768601,-96.797845
END:VEVENT
BEGIN:VTIMEZONE
TZID:America/Detroit
X-LIC-LOCATION:America/Detroit
BEGIN:STANDARD
DTSTART:20241103T010000
TZOFFSETFROM:-0400
TZOFFSETTO:-0500
TZNAME:EST
END:STANDARD
END:VTIMEZONE
END:VCALENDAR