BEGIN:VCALENDAR
VERSION:2.0
PRODID:-//wp-events-plugin.com//7.2.3.1//EN
TZID:America/Detroit
X-WR-TIMEZONE:America/Detroit
BEGIN:VEVENT
UID:30625@arabamerica.com
DTSTART;TZID=America/Detroit:20230401T180000
DTEND;TZID=America/Detroit:20230401T220000
DTSTAMP:20230307T034333Z
URL:https://www.arabamerica.com/events/tampa-irusa-grand-iftar-for-syria-t
 urkiye-earthquake-emergency/
SUMMARY:Tampa IRUSA Grand Iftar for Syria/Turkiye Earthquake Emergency
DESCRIPTION:\n\n\n\nEMERGENCY RELIEF FOR NORTHERN SYRIA\n\nThe recent earth
 quakes in Syria and Turkiye have caused unimaginable devastation\, with th
 ousands of lives lost\, injuries\, and countless buildings destroyed leavi
 ng hundreds of thousands without shelter. While relief efforts have been f
 ocused on Turkiye\, Northern Syria has been largely overlooked due to poli
 tical turmoil and the decade-long civil war. All of this has led to an ext
 reme crisis within an already unbearable situation for our sisters and bro
 thers in Syria.\n\nIslamic Relief is working tirelessly to bring emergency
  aid to those in Syria most affected by the disaster. We are working in No
 rthern Syria to provide impacted families with essential supplies like foo
 d\, water\, shelter\, and medicine. As we move forward\, we plan to provid
 e long-term development aid to help those affected rebuild their lives.\n\
 nThis Ramadan\, you can make a difference in the lives of those impacted b
 y this tragedy. Join us in supporting our brothers and sisters in Northern
  Syria by donating to Islamic Relief. Your contribution will help bring mu
 ch-needed relief and hope to those who have suffered so much. Let's come t
 ogether as a community to show our support and make a positive impact duri
 ng this difficult time.\n\n&nbsp\;\n\nIRUSA’s Grand Iftar is back for 20
 23\, and in a big way!\n\nYour favorite Ramadan IRUSA iftar is back\, and 
 it’s bigger than ever.\n\nJoin us\, Imam Abdullah Oduro and Qari Suleman
  Syed\, to reflect on the greatness of this beautiful month\, be moved by 
 the recitation of the Quran\, break our fasts and pray together\, and cele
 brate the remarkable impact your charity makes in the lives of so many of 
 our sisters and brothers around the world.\n\nYou don’t want to miss thi
 s: Purchase your tickets before they sell out!\n\n\n
ATTACH;FMTTYPE=image/jpeg:https://www.arabamerica.com/wp-content/uploads/2
 023/03/iftar.jpeg
CATEGORIES:Ramadan,Ramadan Iftar,Syria,Turkey
LOCATION:Embassy Suites by Hilton Tampa USF Near Busch Gardens\, 3705 Spect
 rum Boulevard \, Tampa\, FL\, 33612\, United States
GEO:28.055671;-82.417342
X-APPLE-STRUCTURED-LOCATION;VALUE=URI;X-ADDRESS=3705 Spectrum Boulevard \, 
 Tampa\, FL\, 33612\, United States;X-APPLE-RADIUS=100;X-TITLE=Embassy Suit
 es by Hilton Tampa USF Near Busch Gardens:geo:28.055671,-82.417342
END:VEVENT
BEGIN:VTIMEZONE
TZID:America/Detroit
X-LIC-LOCATION:America/Detroit
BEGIN:DAYLIGHT
DTSTART:20230312T030000
TZOFFSETFROM:-0500
TZOFFSETTO:-0400
TZNAME:EDT
END:DAYLIGHT
END:VTIMEZONE
END:VCALENDAR