BEGIN:VCALENDAR
VERSION:2.0
PRODID:-//wp-events-plugin.com//7.2.3.1//EN
TZID:America/Detroit
X-WR-TIMEZONE:America/Detroit
BEGIN:VEVENT
UID:35756@arabamerica.com
DTSTART;TZID=America/Detroit:20260228T173000
DTEND;TZID=America/Detroit:20260228T203000
DTSTAMP:20260122T053500Z
URL:https://www.arabamerica.com/events/tarab-fawazeer-an-iftar-evening-of-
 melodies-riddles/
SUMMARY:TARAB & FAWAZEER: An Iftar Evening of Melodies & Riddles
DESCRIPTION:FARAH NJ invites you to a joyful evening celebrating Arab cultu
 re\, music\, and community. Join us for TARAB & FAWAZEER\, a special night
  beginning with a delicious Iftar buffet of mezze\, dinner\, and dessert b
 y Lammeh NYC.
ATTACH;FMTTYPE=image/jpeg:https://www.arabamerica.com/wp-content/uploads/2
 026/01/FAM1qbxdG3R70RUkwWL2l0J15QX3g6xBKSHTHPqC.png
CATEGORIES:Arab Music,Dinner party,Iftar,Iftar Dinner
LOCATION:320 W 37th St\, 320 W 37th St\, New York\, NY\, 10018\, United Sta
 tes
GEO:40.754933;-73.994309
X-APPLE-STRUCTURED-LOCATION;VALUE=URI;X-ADDRESS=320 W 37th St\, New York\, 
 NY\, 10018\, United States;X-APPLE-RADIUS=100;X-TITLE=320 W 37th St:geo:40
 .754933,-73.994309
END:VEVENT
BEGIN:VTIMEZONE
TZID:America/Detroit
X-LIC-LOCATION:America/Detroit
BEGIN:STANDARD
DTSTART:20251102T010000
TZOFFSETFROM:-0400
TZOFFSETTO:-0500
TZNAME:EST
END:STANDARD
END:VTIMEZONE
END:VCALENDAR