BEGIN:VCALENDAR
VERSION:2.0
PRODID:-//wp-events-plugin.com//7.2.3.1//EN
TZID:America/Detroit
X-WR-TIMEZONE:America/Detroit
BEGIN:VEVENT
UID:34974@arabamerica.com
DTSTART;TZID=America/Belize:20250816T120000
DTEND;TZID=America/Belize:20250816T200000
DTSTAMP:20250812T172940Z
URL:https://www.arabamerica.com/events/taste-of-africa-2025-afro-fusion-on
 -the-beach/
SUMMARY:Taste of Africa 2025: Afro-Fusion on the Beach
DESCRIPTION:\n\n\nHello again\, friend—\n\nRemember the rhythm of Africa 
 you felt last year? The heartbeat\, the brilliance\, the innovation?\n\nWe
 ll\, this year\, Africa isn't just showing up...\nShe’s inviting the wor
 ld to dance with her.\n\nAfro-Fusion on the Beach is where Jollof rice mee
 ts Mediterranean zest\, where African fashion flows beside global silhouet
 tes\, and where the colors of many cultures glow under the moonlight\, tel
 ling stories that stretch from Lagos to Lisbon\, Dakar to Dubai.\n\nIt’s
  a vibe. A celebration. A collision of beauty\, spice\, sound\, and soul.\
 n\nWe’re not just showcasing Africa—we’re blending her essence with 
 the world around us.\n\nJoin us by the water\, under the stars\, in the sa
 nd... and in the story.\n\nLet’s fuse. Let’s feast. Let’s feel.\n&#x
 1f30d\;&#x1f525\;&#x1f457\;&#x1f30a\;&#x1f319\;\n\nWill you go on this jou
 rney with us?\n\nThis year\, we are celebrating AfroFusion on the beach.\n
 \nFollow us on social @tasteofafricachicago for more information on the DA
 I experience and register today to attend Taste of Africa 2025.\n\n\n\n\n\
 n\nHave you ever heard of the World's Fair? Well\, if you haven't\, you ar
 e in for something as we strive to rebrand the African continent and showc
 ase the excellence that embodies the land.\n\nHave you ever wondered what 
 happens when Africa meets the world on the shoreline?\n\nWelcome to Taste 
 of Africa 2025: Afro-Fusion on the Beach—where culture\, creativity\, an
 d connection collide under the open sky. This year\, we invite you to expe
 rience Africa like never before—as she steps onto the sand\, opens her a
 rms to the world\, and blends flavors\, fashion\, beauty\, and stories int
 o one unforgettable celebration.\n\nTaste of Africa\, Chicago is more than
  a festival—it's an immersive cultural showcase\, created to rebrand the
  African image and highlight the brilliance\, vibrancy\, and global potent
 ial of the continent and her people.\n\nCome hear Africa’s story from th
 e voices of her children. See how Jollof rice dances with Mediterranean fl
 avors\, how ancestral rhythms pulse through modern beats. Sit by the sea a
 nd listen to tales by moonlight\, as we tell stories that connect us all.\
 n\nThis is the largest African-inspired outdoor event in Chicago\, and thi
 s year\, we’re taking things to the beach. Prepare to explore\, taste\, 
 shop\, vibe\, and dream with us.\n\nWhether you're African by blood or by 
 love\, this is your invitation to fuse.\n\nAre you ready? The fusion begin
 s now.\n\n\n
ATTACH;FMTTYPE=image/jpeg:https://www.arabamerica.com/wp-content/uploads/2
 025/08/IMG_0345.jpeg
LOCATION:Ohio street beach\, 600 North Lake Shore Dr. \, Chicago\, Illinois
 \, United States
GEO:41.893502;-87.614625
X-APPLE-STRUCTURED-LOCATION;VALUE=URI;X-ADDRESS=600 North Lake Shore Dr. \,
  Chicago\, Illinois\, United States;X-APPLE-RADIUS=100;X-TITLE=Ohio street
  beach:geo:41.893502,-87.614625
END:VEVENT
BEGIN:VTIMEZONE
TZID:America/Belize
X-LIC-LOCATION:America/Belize
BEGIN:STANDARD
DTSTART:20240816T120000
TZOFFSETFROM:-0600
TZOFFSETTO:-0600
TZNAME:CST
END:STANDARD
END:VTIMEZONE
END:VCALENDAR