BEGIN:VCALENDAR
VERSION:2.0
PRODID:-//wp-events-plugin.com//7.2.3.1//EN
TZID:America/Detroit
X-WR-TIMEZONE:America/Detroit
BEGIN:VEVENT
UID:33614@arabamerica.com
DTSTART;TZID=America/Detroit:20241019T180000
DTEND;TZID=America/Detroit:20241019T200000
DTSTAMP:20241002T043302Z
URL:https://www.arabamerica.com/events/taste-of-morocco-3/
SUMMARY:Taste of Morocco
DESCRIPTION:Summit\, NJ\nMenu:\nGolden Carrot Ginger Soup with a Roasted Co
 rn Melange\nFrench Moroccan Chicken with Preserved Lemon\nCouscous Morocca
 n Style\n”Ghriba” Moroccan Tea Biscuit\nMoroccan Mint Tea\nCost:\n$150
  per person\nWhen &amp\; Where:\nPassion for Spices Cooking School\n31 Woo
 dland Ave\, Summit\, NJ 07901\n\n\n 	Saturday\, October 19\, 2024\n 	6:00 
 PM  8:00 PM EDT\n
ATTACH;FMTTYPE=image/jpeg:https://www.arabamerica.com/wp-content/uploads/2
 024/10/MorocconCarrotSoup.jpeg
LOCATION:Passion for Spices LLC\, 31 Woodland Avenue\, Summit\, New Jersey\
 , 07901\, United States
GEO:40.71944;-74.359503
X-APPLE-STRUCTURED-LOCATION;VALUE=URI;X-ADDRESS=31 Woodland Avenue\, Summit
 \, New Jersey\, 07901\, United States;X-APPLE-RADIUS=100;X-TITLE=Passion f
 or Spices LLC:geo:40.71944,-74.359503
END:VEVENT
BEGIN:VTIMEZONE
TZID:America/Detroit
X-LIC-LOCATION:America/Detroit
BEGIN:DAYLIGHT
DTSTART:20240310T030000
TZOFFSETFROM:-0500
TZOFFSETTO:-0400
TZNAME:EDT
END:DAYLIGHT
END:VTIMEZONE
END:VCALENDAR