BEGIN:VCALENDAR
VERSION:2.0
PRODID:-//wp-events-plugin.com//7.2.3.1//EN
TZID:America/Detroit
X-WR-TIMEZONE:America/Detroit
BEGIN:VEVENT
UID:34076@arabamerica.com
DTSTART;TZID=America/Detroit:20250401T164500
DTEND;TZID=America/Detroit:20250401T200000
DTSTAMP:20250219T030725Z
URL:https://www.arabamerica.com/events/taste-of-morocco-4/
SUMMARY:Taste of Morocco
DESCRIPTION:Boulder\, CO\n\n&nbsp\;\n\nFull of spices and rich in culture\,
  the cuisine of Morocco will sweep you off your feet!\n\nCheck-in is at 4:
 45 pm and we will start promptly at 5:00 pm.\n\nMenu:\n\n 	Chicken with Le
 mon and Olives- Chicken legs seasoned with ginger and cinnamon\, braised 
 with lemom and olives.\n 	Harissa- North African condiment of spices and 
 chiles.\n 	Moroccan Lentil Soup- Spiced puree of lentils\, rich and comfo
 rting.\n\nAllergy Advisory: Please notify Chef Dallas of allergies ahead 
 of the class and request more information at dhoule@staff.escoffier.edu\n\
 nWhere will the event be delivered at?\n\nCentral kitchens\n\nWho do I con
 tact with questions?\n\nPlease email our Business Office Manager at krodri
 guez@escoffier.edu or call 720.420.7656\n\nWhat is the cancellation policy
 ?\n\nEvent registrations can be refunded through Eventbrite up to 7 days p
 rior to the event date. Event registrations are non-refundable less than 7
  days prior to the event. Missed events may not be made up.\n\nThe school 
 reserves the right to cancel any event not meeting sign up standards and t
 o change recipes based on product availability.\n\n*It is extremely rare f
 or an event to be canceled due to weather.\n\nIs there an age requirement?
 \n\nParticipants under the age of 18 may attend our events when they regis
 ter and attend the event with a parent or guardian.\n\nIs there a dress co
 de?\n\nThis is a hands-on cooking event. Please wear comfortable clothes a
 nd closed-toed shoes. For safety reasons\, please do not wear shorts\, ski
 rts or sandals. If you have long hair\, please pull it back during the eve
 nt.
ATTACH;FMTTYPE=image/jpeg:https://www.arabamerica.com/wp-content/uploads/2
 025/02/sefknlef.png
LOCATION:Auguste Escoffier School of Culinary Arts\, 637 S Broadway St Suit
 e H\, Boulder\, CO\, 80305\, United States
GEO:40.027301;-105.282085
X-APPLE-STRUCTURED-LOCATION;VALUE=URI;X-ADDRESS=637 S Broadway St Suite H\,
  Boulder\, CO\, 80305\, United States;X-APPLE-RADIUS=100;X-TITLE=Auguste E
 scoffier School of Culinary Arts:geo:40.027301,-105.282085
END:VEVENT
BEGIN:VTIMEZONE
TZID:America/Detroit
X-LIC-LOCATION:America/Detroit
BEGIN:DAYLIGHT
DTSTART:20250309T030000
TZOFFSETFROM:-0500
TZOFFSETTO:-0400
TZNAME:EDT
END:DAYLIGHT
END:VTIMEZONE
END:VCALENDAR