BEGIN:VCALENDAR
VERSION:2.0
PRODID:-//wp-events-plugin.com//7.2.3.1//EN
TZID:America/Detroit
X-WR-TIMEZONE:America/Detroit
BEGIN:VEVENT
UID:35657@arabamerica.com
DTSTART;TZID=America/Denver:20260212T164500
DTEND;TZID=America/Denver:20260212T200000
DTSTAMP:20260106T163856Z
URL:https://www.arabamerica.com/events/taste-of-morocco-6/
SUMMARY:Taste of Morocco
DESCRIPTION:BOULDER\, CO\n\nA powerhouse of flavor\, come explore the techn
 iques that create them!\n\n\n\n\nFull of spices and rich in culture\, the 
 cuisine of Morocco will sweep you off your feet!\n\nCheck-in is at 4:45 pm
  and we will start promptly at 5:00 pm.\n\nMenu:\n\n 	Chicken with Lemon a
 nd Olives- Chicken legs seasoned with ginger and cinnamon\, braised with 
 lemom and olives.\n 	Harissa- North African condiment of spices and chile
 s.\n 	Moroccan Lentil Soup- Spiced puree of lentils\, rich and comforting
 .\n\nAllergy Advisory: Please notify Chef Dallas of allergies ahead of th
 e class and request more information at dhoule@staff.escoffier.edu\n\nWher
 e will the event be delivered at?\n\nCentral kitchens\n\nWho do I contact 
 with questions?\n\nPlease email our Business Office Manager at krodriguez@
 escoffier.edu or call 720.420.7656\n\nWhat is the cancellation policy?\n\n
 Event registrations can be refunded through Eventbrite up to 7 days prior 
 to the event date. Event registrations are non-refundable less than 7 days
  prior to the event. Missed events may not be made up.\n\nThe school reser
 ves the right to cancel any event not meeting sign up standards and to cha
 nge recipes based on product availability.\n\n*It is extremely rare for an
  event to be canceled due to weather.\n\nIs there an age requirement?\n\nP
 articipants under the age of 18 may attend our events when they register a
 nd attend the event with a parent or guardian.\n\nIs there a dress code?\n
 \nThis is a hands-on cooking event. Please wear comfortable clothes and cl
 osed-toed shoes. For safety reasons\, please do not wear shorts\, skirts o
 r sandals. If you have long hair\, please pull it back during the event.\n
 \nREGISTER HERE\n\n\n
ATTACH;FMTTYPE=image/jpeg:https://www.arabamerica.com/wp-content/uploads/2
 026/01/Screenshot-2026-01-06-at-11.39.39-AM.png
LOCATION:Auguste Escoffier School of Culinary Arts\, 637 S Broadway St Suit
 e H\, Boulder\, CO\, 80305\, United States
GEO:40.027301;-105.282085
X-APPLE-STRUCTURED-LOCATION;VALUE=URI;X-ADDRESS=637 S Broadway St Suite H\,
  Boulder\, CO\, 80305\, United States;X-APPLE-RADIUS=100;X-TITLE=Auguste E
 scoffier School of Culinary Arts:geo:40.027301,-105.282085
END:VEVENT
BEGIN:VTIMEZONE
TZID:America/Denver
X-LIC-LOCATION:America/Denver
BEGIN:STANDARD
DTSTART:20251102T010000
TZOFFSETFROM:-0600
TZOFFSETTO:-0700
TZNAME:MST
END:STANDARD
END:VTIMEZONE
END:VCALENDAR