BEGIN:VCALENDAR
VERSION:2.0
PRODID:-//wp-events-plugin.com//7.2.3.1//EN
TZID:America/Detroit
X-WR-TIMEZONE:America/Detroit
BEGIN:VEVENT
UID:33591@arabamerica.com
DTSTART;TZID=America/Detroit:20241102T110000
DTEND;TZID=America/Detroit:20241102T133000
DTSTAMP:20240930T142021Z
URL:https://www.arabamerica.com/events/taste-of-morocco-a-culinary-journey
 -with-chef-barry-r-young/
SUMMARY:Taste of Morocco: A Culinary Journey with Chef Barry R. Young
DESCRIPTION:\n\nJoin Chef Barry R. Young\, an esteemed Columbus State profe
 ssor with over 40 years of culinary experience\n\n\n\n\n\n\n\n\n\nTaste of
  Morocco: A Culinary Journey with Chef Barry R. Young\, CEC\, CCE\, AAC\, 
 MBA\n\nJoin Chef Barry R. Young\, an esteemed Columbus State professor wit
 h over 40 years of culinary experience\, for an immersive cooking class th
 at brings the rich and aromatic flavors of Morocco to life. This hands-on 
 event will guide you through the preparation of a traditional three-course
  Moroccan meal.\n\nMenu Highlights:\n\n 	Moroccan Chicken: Tender chicken 
 thighs cooked with zesty lemons and olives\, seasoned with an authentic Mo
 roccan spice blend.\n 	Curried Vegetable Couscous: A vibrant\, spiced cous
 cous dish filled with fresh vegetables\, perfectly paired with the main co
 urse.\n 	Baklava: A deliciously sweet dessert with layers of crispy phyllo
  dough\, nuts\, honey\, and butter.\n\nWhat to Expect:\n\n 	Hands-On Cooki
 ng: Learn alongside Chef Barry as he walks you through each recipe.\n 	Aut
 hentic Techniques: Gain valuable skills and insights that will help you re
 create these dishes at home.\n 	Full Moroccan Meal: After preparing the me
 al\, you’ll sit down to enjoy your culinary creations.\n\nEvent Details:
  &#x1f4c5\; Date: Saturday\, November 2\, 2024\n&#x23f0\; Time: 11:00 AM t
 o 1:30 PM\n&#x1f4cd\; Location: The Mix at Columbus State Community Colleg
 e\n&#x1f39f\; Tickets: $90 per person\n\nDon't miss out on this opportunit
 y to explore the exotic tastes of Moroccan cuisine with Chef Barry Young! 
 Whether you're a novice cook or a culinary enthusiast\, you'll leave this 
 class with new skills\, recipes\, and a full stomach.\n\nGet your tickets 
 today for $90 and experience a true Taste of\n\n\n\n\n\n
ATTACH;FMTTYPE=image/jpeg:https://www.arabamerica.com/wp-content/uploads/2
 024/09/Screen-Shot-2024-09-30-at-9.21.08-AM.png
CATEGORIES:#arabic,Arab,Arab Ameircan Event,Arab
 American,Community,culture,Discussion,Food,moroccan,moroccan
 crafts,Moroccan Cuisine,Moroccan Culture,Moroccan Delights,Moroccan
 Food,Moroccan night,moroccan stew,moroccan tagine,Morocco Culture
LOCATION:Mitchell Hall\, 250 Cleveland Avenue\, Columbus\, OH\, 43215\, Uni
 ted States
GEO:39.968803;-82.9901749
X-APPLE-STRUCTURED-LOCATION;VALUE=URI;X-ADDRESS=250 Cleveland Avenue\, Colu
 mbus\, OH\, 43215\, United States;X-APPLE-RADIUS=100;X-TITLE=Mitchell Hall
 :geo:39.968803,-82.9901749
END:VEVENT
BEGIN:VTIMEZONE
TZID:America/Detroit
X-LIC-LOCATION:America/Detroit
BEGIN:DAYLIGHT
DTSTART:20240310T030000
TZOFFSETFROM:-0500
TZOFFSETTO:-0400
TZNAME:EDT
END:DAYLIGHT
END:VTIMEZONE
END:VCALENDAR