BEGIN:VCALENDAR
VERSION:2.0
PRODID:-//wp-events-plugin.com//7.2.3.1//EN
TZID:America/Detroit
X-WR-TIMEZONE:America/Detroit
BEGIN:VEVENT
UID:32213@arabamerica.com
DTSTART;TZID=America/Detroit:20240210T140000
DTEND;TZID=America/Detroit:20240210T160000
DTSTAMP:20240206T044704Z
URL:https://www.arabamerica.com/events/taste-of-palestine/
SUMMARY:Taste of Palestine
DESCRIPTION:Sterling\, VA.\n\n\nCelebrating the rich old Palestinian tradit
 ion with their Food\, art\, poetry and music. Please join us.\n\n\n\n\n\n\
 n\n\n\n\n\n\n\n\n\n
ATTACH;FMTTYPE=image/jpeg:https://www.arabamerica.com/wp-content/uploads/2
 024/02/https___cdn.evbuc_.com_images_684177399_178096263792_1_original.png
CATEGORIES:culture,Food,Music/Folk/World
LOCATION:Bdesh Foundation\, 22821 Silverbrook Center Drive\, Sterling \, VA
 \, United States
GEO:38.983952;-77.422054
X-APPLE-STRUCTURED-LOCATION;VALUE=URI;X-ADDRESS=22821 Silverbrook Center Dr
 ive\, Sterling \, VA\, United States;X-APPLE-RADIUS=100;X-TITLE=Bdesh Foun
 dation:geo:38.983952,-77.422054
END:VEVENT
BEGIN:VTIMEZONE
TZID:America/Detroit
X-LIC-LOCATION:America/Detroit
BEGIN:STANDARD
DTSTART:20231105T010000
TZOFFSETFROM:-0400
TZOFFSETTO:-0500
TZNAME:EST
END:STANDARD
END:VTIMEZONE
END:VCALENDAR