BEGIN:VCALENDAR
VERSION:2.0
PRODID:-//wp-events-plugin.com//7.2.3.1//EN
TZID:America/Detroit
X-WR-TIMEZONE:America/Detroit
BEGIN:VEVENT
UID:31409@arabamerica.com
DTSTART;TZID=America/Detroit:20230821T180000
DTEND;TZID=America/Detroit:20230821T200000
DTSTAMP:20230718T140724Z
URL:https://www.arabamerica.com/events/taste-of-travel-lebanese-dinner-2/
SUMMARY:Taste of Travel: Lebanese Dinner
DESCRIPTION:"Lebanese meals are meant to be shared. Join food writer and ch
 ef-instructor Shawnie Kelley for a class inspired by her time living in Ni
 ce\, France\, where a large Lebanese population shares its culinary tradit
 ions through restaurants and street food. Through many dinners with Lebane
 se friends and their families\, she learned an important component to Leba
 nese dining is having a variety of dips and dippers.\n\nHere we learn to m
 ake the easy and delicious labneh (strained yogurt with lemon and herbs)\,
  bright and zingy tabbouleh (bulgur\, parsley\, tomato salad)\, and baba g
 hanouj (smoky roasted eggplant dip) with pita bread\, chips and vegetables
  for dipping. You will hone your knife skills in this class as you chop an
 d dice the many ingredients. We’ll make fattoush\, a salad of seasonal v
 egetables topped with fried pita bread or chips. For the main course\, shi
 sh taouk with toum — marinated grilled chicken skewers with garlic sauce
  — is a gourmet treat. The French culinary influence on Lebanese cuisine
  is seen in toum\, a lemony\, garlicky sauce similar to aioli\, which pair
 s beautifully with grilled chicken. At the end of class\, enjoy your dinne
 r with a glass of wine.\n\n 	You will be standing\, cooking\, and working 
 for most of the class\n 	Please wear comfortable\, closed-toe shoes and ha
 ve long hair tied back.\n 	If you need to cancel your class booking\, you 
 can do so up to 48 hours before the class to receive a refund or class cre
 dit."\n
ATTACH;FMTTYPE=image/jpeg:https://www.arabamerica.com/wp-content/uploads/2
 023/07/Taste-of-Travel.jpeg
CATEGORIES:Community,culture,Food,lebanese
LOCATION:Mitchell Hall\, 250 Cleveland Avenue\, Columbus\, OH\, 43215\, Uni
 ted States
GEO:39.968592;-82.989249
X-APPLE-STRUCTURED-LOCATION;VALUE=URI;X-ADDRESS=250 Cleveland Avenue\, Colu
 mbus\, OH\, 43215\, United States;X-APPLE-RADIUS=100;X-TITLE=Mitchell Hall
 :geo:39.968592,-82.989249
END:VEVENT
BEGIN:VTIMEZONE
TZID:America/Detroit
X-LIC-LOCATION:America/Detroit
BEGIN:DAYLIGHT
DTSTART:20230312T030000
TZOFFSETFROM:-0500
TZOFFSETTO:-0400
TZNAME:EDT
END:DAYLIGHT
END:VTIMEZONE
END:VCALENDAR