BEGIN:VCALENDAR
VERSION:2.0
PRODID:-//wp-events-plugin.com//7.2.3.1//EN
TZID:America/Detroit
X-WR-TIMEZONE:America/Detroit
BEGIN:VEVENT
UID:33178@arabamerica.com
DTSTART;TZID=America/Detroit:20240817T140000
DTEND;TZID=America/Detroit:20240817T160000
DTSTAMP:20240708T162750Z
URL:https://www.arabamerica.com/events/tatreez-101-celebrating-the-art-of-
 palestinian-embroidery/
SUMMARY:Tatreez 101: Celebrating the Art of Palestinian Embroidery
DESCRIPTION:SAN FRANCISCO\, CA\n\n\n\n\n\n\nSaturday\, August 17\, 2024 | 2
 :00-4:00pm\nSpace is limited. Please RSVP.\n\nEmbark on a captivating jour
 ney into Tatreez\, the art of Palestinian embroidery with Amanne Sharif fr
 om Min Amanne Designs. In this two-hour workshop\, discover the historical
  and political significance of tatreez\, from its roots in pre-1948 Palest
 ine to its role as a symbol of resistance post-Nakba. Learn the fundamenta
 ls of the fallahi stitch\, or cross stitch\, and start your own tatreez mo
 tif under Amanne's expert guidance. Leave with newfound skills\, stitching
  strategy insights\, and all the materials needed to continue your own tat
 reez projects\, connecting deeply with this rich cultural heritage.\n\nThi
 s workshop is planned in conjunction with the exhibition Praxis of Local K
 nowledge on view at the SFAC Main Gallery through August 17\, 2024.\nABOUT
  THE ARTIST\nAmanne Sharif\, a Palestinian Tatreez artist based in the Bay
  Area\, draws inspiration from her deep connection to Palestinian heritage
 . Guided by the stories of her maternal grandmother\, a refugee displaced 
 from Al-Qubab village in the Ramleh region in 1948\, Amanne's art reflects
  a legacy of resilience and cultural pride. Despite resettling in Brazil\,
  her grandparents ensured the enduring preservation of their Palestinian i
 dentity\, nurturing Amanne's passion for Tatreez. Infusing each piece with
  her identity\, Amanne employs traditional motifs enriched with vibrant nu
 ances. Her work serves as a tribute to her ancestors\, a reclaiming of sto
 len land\, and a defiance against attempts to erase Palestinian identity. 
 Additionally\, Amanne co-hosts the popular podcast Tatreez Talk and co-fou
 nded The Tatreez Retreat. She offers virtual and in-person Tatreez worksho
 ps\, with previous clients including Los Gatos Library\, Stanford Universi
 ty\, and Pixar. Committed to community engagement\, she strives to preserv
 e and celebrate Tatreez's rich heritage for future generations.\n\n\n\n\n\
 n
ATTACH;FMTTYPE=image/jpeg:https://www.arabamerica.com/wp-content/uploads/2
 024/07/temp-19.jpg
LOCATION:San Francisco Arts Commission Main Gallery\, 401 Van Ness Ave #126
 \, San Francisco\, California\, 94102\, United States
GEO:37.779741;-122.421
X-APPLE-STRUCTURED-LOCATION;VALUE=URI;X-ADDRESS=401 Van Ness Ave #126\, San
  Francisco\, California\, 94102\, United States;X-APPLE-RADIUS=100;X-TITLE
 =San Francisco Arts Commission Main Gallery:geo:37.779741,-122.421
END:VEVENT
BEGIN:VTIMEZONE
TZID:America/Detroit
X-LIC-LOCATION:America/Detroit
BEGIN:DAYLIGHT
DTSTART:20240310T030000
TZOFFSETFROM:-0500
TZOFFSETTO:-0400
TZNAME:EDT
END:DAYLIGHT
END:VTIMEZONE
END:VCALENDAR