BEGIN:VCALENDAR
VERSION:2.0
PRODID:-//wp-events-plugin.com//7.2.3.1//EN
TZID:America/Detroit
X-WR-TIMEZONE:America/Detroit
BEGIN:VEVENT
UID:34294@arabamerica.com
DTSTART;TZID=America/Detroit:20250420T120000
DTEND;TZID=America/Detroit:20250420T140000
DTSTAMP:20250413T210749Z
URL:https://www.arabamerica.com/events/tatreez-101-palestinian-embroidery-
 workshop/
SUMMARY:Tatreez 101: Palestinian Embroidery Workshop
DESCRIPTION:RICHMOND\, VA\n\nJoin us for Tatreez 101\, an interactive works
 hop introducing the rich tradition of Palestinian embroidery. Whether you'
 re a complete beginner or looking to reconnect with your roots\, this even
 t is the perfect way to explore the art of tatreez and its cultural signif
 icance.\n\nWhat You’ll Learn:\n&#x2728\; The history and cultural import
 ance of tatreez.\n&#x2728\; Basic stitching techniques and common motifs.\
 n&#x2728\; How to create your own small tatreez project to take home.\n\nW
 hat’s Included:\n&#x1f9f5\; All materials (fabric\, thread\, and needle)
 .\n&#x1f4d6\; A guide to basic tatreez stitches and patterns.\n\nWho Shoul
 d Attend:\nThis event is open to all skill levels! No prior experience in 
 embroidery is needed.
ATTACH;FMTTYPE=image/jpeg:https://www.arabamerica.com/wp-content/uploads/2
 025/04/Screenshot-2025-04-13-at-5.14.57 PM.png
LOCATION:Sefton Coffee Company\, 24 North 8th Street \, Richmond\, VA\, 232
 19\, United States
GEO:37.539535;-77.436758
X-APPLE-STRUCTURED-LOCATION;VALUE=URI;X-ADDRESS=24 North 8th Street \, Rich
 mond\, VA\, 23219\, United States;X-APPLE-RADIUS=100;X-TITLE=Sefton Coffee
  Company:geo:37.539535,-77.436758
END:VEVENT
BEGIN:VTIMEZONE
TZID:America/Detroit
X-LIC-LOCATION:America/Detroit
BEGIN:DAYLIGHT
DTSTART:20250309T030000
TZOFFSETFROM:-0500
TZOFFSETTO:-0400
TZNAME:EDT
END:DAYLIGHT
END:VTIMEZONE
END:VCALENDAR