BEGIN:VCALENDAR
VERSION:2.0
PRODID:-//wp-events-plugin.com//7.2.3.1//EN
TZID:America/Detroit
X-WR-TIMEZONE:America/Detroit
BEGIN:VEVENT
UID:35063@arabamerica.com
DTSTART;TZID=America/Los_Angeles:20250920T130000
DTEND;TZID=America/Los_Angeles:20250920T150000
DTSTAMP:20250902T215752Z
URL:https://www.arabamerica.com/events/tatreez-embroidery-workshop/
SUMMARY:Tatreez Embroidery Workshop
DESCRIPTION:LOS ANGELES\, CA\n\nLearn the history and fundamentals of tatre
 ez\, the beautiful art of Palestinian embroidery.\n\nJoin friends of Steve
 's Backhouse\, Lana and Rula\, for a beginner-friendly Palestinian Tatreez
  workshop. Tatreez\, the beautiful art of Palestinian embroidery\, is a ch
 erished cultural tradition passed down through generations. In this hands-
 on class\, you'll learn the history and fundamentals of this intricate emb
 roidery style.\n\nYour ticket price includes:\n\n 	Aida cloth\n 	Tapestry 
 needle\n 	Embroidery thread\n 	Two traditional Palestinian motifs to pract
 ice\n\nAll skill levels are welcome\, and no prior experience is necessary
 . Come connect with a rich cultural heritage\, learn a new skill\, and sup
 port those in need.\n\nAll proceeds from this workshop will be donated to 
 the Palestine Children’s Relief Fund (PCRF)\, a non-profit organization 
 that provides medical and humanitarian aid to children in the Middle East.
  Your participation not only helps preserve a beautiful art form but also 
 contributes to a vital cause.\n\nGET TICKETS HERE\n\n&nbsp\;
ATTACH;FMTTYPE=image/jpeg:https://www.arabamerica.com/wp-content/uploads/2
 025/09/Screenshot-2025-09-02-at-5.52.56-PM.png
LOCATION:Steve’s Backhouse\, 4866 Clinton Street\, Los Angeles\, CA\, 900
 04\, United States
GEO:34.08156;-118.308574
X-APPLE-STRUCTURED-LOCATION;VALUE=URI;X-ADDRESS=4866 Clinton Street\, Los A
 ngeles\, CA\, 90004\, United States;X-APPLE-RADIUS=100;X-TITLE=Steve’s B
 ackhouse:geo:34.08156,-118.308574
END:VEVENT
BEGIN:VTIMEZONE
TZID:America/Los_Angeles
X-LIC-LOCATION:America/Los_Angeles
BEGIN:DAYLIGHT
DTSTART:20250309T030000
TZOFFSETFROM:-0800
TZOFFSETTO:-0700
TZNAME:PDT
END:DAYLIGHT
END:VTIMEZONE
END:VCALENDAR