BEGIN:VCALENDAR
VERSION:2.0
PRODID:-//wp-events-plugin.com//7.2.3.1//EN
TZID:America/Detroit
X-WR-TIMEZONE:America/Detroit
BEGIN:VEVENT
UID:31196@arabamerica.com
DTSTART;TZID=America/Detroit:20230610T180000
DTEND;TZID=America/Detroit:20230610T190000
DTSTAMP:20230605T151902Z
URL:https://www.arabamerica.com/events/tatreez-inheritance-monthly-curator
 ial-tour-june-2/
SUMMARY:TATREEZ INHERITANCE Monthly Curatorial Tour: June
DESCRIPTION:Washington\, DC\nTATREEZ INHERITANCE Curatorial Tour with Wafa 
 Ghnaim\n\nJune 10\, 2023\n\n6 - 7 p.m.\n\nTATREEZ INHERITANCE: Preserving 
 Palestinian Cultural Heritage in 75 Years of Exile is Wafa Ghnaim's curato
 rial debut and currently on view at Museum of the Palestinian People in Wa
 shington\, D.C. Please join Wafa for a timed\, ticketed curator-led tour o
 f this exhibition at 6 p.m. on Saturday\, June 10.\n\nPlease book your tic
 ket soon as space is very limited.\n\nTo learn more about this exhibition\
 , go to mpp-dc.org/tatreez.
ATTACH;FMTTYPE=image/jpeg:https://www.arabamerica.com/wp-content/uploads/2
 023/06/Screen-Shot-2023-06-05-at-8.15.03-AM.png
CATEGORIES:Tour
LOCATION:Museum of the Palestinian People\, 1900 18th Street NW\, Washingto
 n\, DC\, 20009\, United States
GEO:38.915751;-77.041941
X-APPLE-STRUCTURED-LOCATION;VALUE=URI;X-ADDRESS=1900 18th Street NW\, Washi
 ngton\, DC\, 20009\, United States;X-APPLE-RADIUS=100;X-TITLE=Museum of th
 e Palestinian People:geo:38.915751,-77.041941
END:VEVENT
BEGIN:VTIMEZONE
TZID:America/Detroit
X-LIC-LOCATION:America/Detroit
BEGIN:DAYLIGHT
DTSTART:20230312T030000
TZOFFSETFROM:-0500
TZOFFSETTO:-0400
TZNAME:EDT
END:DAYLIGHT
END:VTIMEZONE
END:VCALENDAR