BEGIN:VCALENDAR
VERSION:2.0
PRODID:-//wp-events-plugin.com//7.2.3.1//EN
TZID:America/Detroit
X-WR-TIMEZONE:America/Detroit
BEGIN:VEVENT
UID:35025@arabamerica.com
DTSTART;TZID=America/Chicago:20251018T140000
DTEND;TZID=America/Chicago:20251018T160000
DTSTAMP:20250821T174153Z
URL:https://www.arabamerica.com/events/tatreez-workshop/
SUMMARY:Tatreez Workshop
DESCRIPTION:Tatreez is the Arabic word for embroidery—and for Palestinian
 s\, it represents more than stitches on fabric. It is a centuries-old indi
 genous art form that weaves together memory\, identity\, and resistance. P
 assed down through generations for thousands of years\, tatreez continues 
 to be practiced today\, preserving the cultural legacy of Palestine throug
 h needle and thread.\n\nJoin us for a special workshop led by Jenin of Tat
 reez Jenin\, where participants will learn about the rich history of this 
 traditional craft and experience hands-on instruction in basic tatreez tec
 hniques. This event offers a colorful and creative way to connect with Pal
 estinian culture and explore how art can serve as a form of education\, re
 silience\, and storytelling.
ATTACH;FMTTYPE=image/jpeg:https://www.arabamerica.com/wp-content/uploads/2
 025/08/Screenshot-2025-08-21-at-12.39.57-PM.png
LOCATION:Heritage Museum of Asian Art\, 3500 South Morgan Street #3rd Fl \,
  Chicago\, IL\, United States
GEO:41.830486;-87.651398
X-APPLE-STRUCTURED-LOCATION;VALUE=URI;X-ADDRESS=3500 South Morgan Street #3
 rd Fl \, Chicago\, IL\, United States;X-APPLE-RADIUS=100;X-TITLE=Heritage 
 Museum of Asian Art:geo:41.830486,-87.651398
END:VEVENT
BEGIN:VTIMEZONE
TZID:America/Chicago
X-LIC-LOCATION:America/Chicago
BEGIN:DAYLIGHT
DTSTART:20250309T030000
TZOFFSETFROM:-0600
TZOFFSETTO:-0500
TZNAME:CDT
END:DAYLIGHT
END:VTIMEZONE
END:VCALENDAR