BEGIN:VCALENDAR
VERSION:2.0
PRODID:-//wp-events-plugin.com//7.2.3.1//EN
TZID:America/Detroit
X-WR-TIMEZONE:America/Detroit
BEGIN:VEVENT
UID:32413@arabamerica.com
DTSTART;TZID=America/Detroit:20240410T120000
DTEND;TZID=America/Detroit:20240410T120000
DTSTAMP:20240307T132900Z
URL:https://www.arabamerica.com/events/teach-in-on-political-zionism/
SUMMARY:Teach In on Political Zionism
DESCRIPTION:&nbsp\;\n\n[caption id="attachment_246057" align="alignnone" wi
 dth="300"] Palestine Teach In- Teach In on Political Zionism Conference Pr
 omotional Poster[/caption]\n\n&nbsp\;\n\nRUTGERS UNIVERSITY-ZOOM\nThe Cent
 er for Security\, Race and Rights will host a Teach in Political Zionism l
 ecture led by Dr. Zachary Foster\, Center for Security\, Race\, and Rights
  Senior Fellow.
END:VEVENT
BEGIN:VTIMEZONE
TZID:America/Detroit
X-LIC-LOCATION:America/Detroit
BEGIN:DAYLIGHT
DTSTART:20240310T030000
TZOFFSETFROM:-0500
TZOFFSETTO:-0400
TZNAME:EDT
END:DAYLIGHT
END:VTIMEZONE
END:VCALENDAR