BEGIN:VCALENDAR
VERSION:2.0
PRODID:-//wp-events-plugin.com//7.2.3.1//EN
TZID:America/Detroit
X-WR-TIMEZONE:America/Detroit
BEGIN:VEVENT
UID:35675@arabamerica.com
DTSTART;TZID=America/New_York:20260409T163000
DTEND;TZID=America/New_York:20260409T180000
DTSTAMP:20260107T083646Z
URL:https://www.arabamerica.com/events/teaching-to-entrench-education-frag
 mentation-and-yemens-next-decade/
SUMMARY:Teaching to Entrench: Education\, Fragmentation\, and Yemen’s Nex
 t Decade
DESCRIPTION:CAMBRIDGE\, MA\n\nDate and Time\nApril 9\, 2026\n04:30PM - 06:0
 0PM EDT\n\n\nCGIS Knafel 262\n\n\n\n1737 Cambridge St\nCambridge\, MA 02
 138\nUnited States\n\n\n\n\n\n\n\n\n\n\n\n\n\n\nThe WCFIA/CMES Middle East
  Seminar presents\n\nStacey Philbrick Yadav\nThe Joseph P. DiGangi Profes
 sor of International Relations\, Hobart and William Smith Colleges\n\nCo-s
 ponsors: Weatherhead Center for International Affairs\, Center for Middle
  Eastern Studies\n\nContact: Liz Flanagan\n\n\n\n\n\n
ATTACH;FMTTYPE=image/jpeg:https://www.arabamerica.com/wp-content/uploads/2
 019/10/1024px-Flag_of_Yemen.svg_.png
CATEGORIES:#arabic,Arab,Arab American,Community,Discussion,Lecture
LOCATION:CGIS Knafel 262\, 1737 Cambridge st.\, Cambridge \, MA \, United S
 tates
GEO:42.375638;-71.1132356
X-APPLE-STRUCTURED-LOCATION;VALUE=URI;X-ADDRESS=1737 Cambridge st.\, Cambri
 dge \, MA \, United States;X-APPLE-RADIUS=100;X-TITLE=CGIS Knafel 262:geo:
 42.375638,-71.1132356
END:VEVENT
BEGIN:VTIMEZONE
TZID:America/New_York
X-LIC-LOCATION:America/New_York
BEGIN:DAYLIGHT
DTSTART:20260308T030000
TZOFFSETFROM:-0500
TZOFFSETTO:-0400
TZNAME:EDT
END:DAYLIGHT
END:VTIMEZONE
END:VCALENDAR