BEGIN:VCALENDAR
VERSION:2.0
PRODID:-//wp-events-plugin.com//7.2.3.1//EN
TZID:America/Detroit
X-WR-TIMEZONE:America/Detroit
BEGIN:VEVENT
UID:34982@arabamerica.com
DTSTART;TZID=America/Detroit:20250907T140000
DTEND;TZID=America/Detroit:20250907T160000
DTSTAMP:20250813T000325Z
URL:https://www.arabamerica.com/events/team-new-england-zaatar-manouche-an
 d-more/
SUMMARY:Team New England: Za'atar Man'ouche and More
DESCRIPTION:CAMBRIDGE\, MA\n\n&nbsp\;\n\nAs part of the Arab America Founda
 tion's mission to connect and empower Arab Americans\, you are welcome to 
 connect and enjoy za'atar/man'ouche and more.\n\nJoin us for an exciting p
 re-summit gathering before the Connect Empowerment Summit in New Jersey\, 
 taking place on October 24-25. We’re meeting on Sunday\, September 7\, f
 rom 2:00 to 4:00 PM at Andala Coffee House\, 286 Franklin St\, Cambridge\,
  MA. Expect a wonderful afternoon with great food and coffee (food is at y
 our own expense)\, a special surprise regarding registration at the summit
 \, and the opportunity to connect with the best people in New England!\n\n
 We also welcome Warren and Dr. Amal David\, co-founders of the Arab Americ
 a Foundation. They will share a brief yet powerful glimpse of AAF's vibran
 t movement and exciting plans for empowering communities nationwide.\n\nTh
 e event begins at 2:00 pm\, and ends at 4:00 pm.\n\nAdmission is Free.\n\
 nFor information\, call: 877-272-2944\n\nDonations are always welcome to t
 he Arab America Foundation\, a non-profit (501c3) cultural and educationa
 l organization.
ATTACH;FMTTYPE=image/jpeg:https://www.arabamerica.com/wp-content/uploads/2
 025/08/zaatar_manouche_arab-america.png
LOCATION:Andala Coffee House\, 286 Franklin Street\, Cambridge\, MA\, 02139
 \, United States
GEO:42.364794;-71.105797
X-APPLE-STRUCTURED-LOCATION;VALUE=URI;X-ADDRESS=286 Franklin Street\, Cambr
 idge\, MA\, 02139\, United States;X-APPLE-RADIUS=100;X-TITLE=Andala Coffee
  House:geo:42.364794,-71.105797
END:VEVENT
BEGIN:VTIMEZONE
TZID:America/Detroit
X-LIC-LOCATION:America/Detroit
BEGIN:DAYLIGHT
DTSTART:20250309T030000
TZOFFSETFROM:-0500
TZOFFSETTO:-0400
TZNAME:EDT
END:DAYLIGHT
END:VTIMEZONE
END:VCALENDAR