BEGIN:VCALENDAR
VERSION:2.0
PRODID:-//wp-events-plugin.com//7.2.3.1//EN
TZID:America/Detroit
X-WR-TIMEZONE:America/Detroit
BEGIN:VEVENT
UID:31503@arabamerica.com
DTSTART;TZID=America/Detroit:20230820T130000
DTEND;TZID=America/Detroit:20230820T150000
DTSTAMP:20230816T151736Z
URL:https://www.arabamerica.com/events/team-new-jersey-yalla-connect/
SUMMARY:Team New Jersey--Yalla Connect!
DESCRIPTION:As part of the Arab America Foundation's mission to connect and
  empower Arab Americans\, we invite you to join Team New Jersey at the Pal
 estinian American Community Center (PACC)\, 388 Lakeview Avenue\, Clifton\
 , NJ\, 07011.\n\n\n\n\n\nJoin us at this exciting gathering where you'll h
 ave the chance to meet the Co-Founders\, Warren and Dr. Amal David\, from 
 Washington DC. Together with their grass-roots network\, they are the driv
 ing force behind a nationwide movement that has achieved remarkable growth
 . Don't miss out on this unique opportunity to be a part of this impactful
  initiative for Arab Americans. Delicious refreshments will be served as w
 e come together to embrace this momentous movement.\n\nThe event begins at
  3:00 pm and ends at 4:30 pm. Admission is Free.\n\nPlease confirm no late
 r than Thursday\, August 17th.\n\nFor information call: 877-272-2944\n\nDo
 nations are always welcome to the Arab America Foundation\, a non-profit 
 (501c3) cultural and educational organization.\n\n\n\n\n\n\n&nbsp\;\n\n\n\
 n\n\n\n\n\n\n
ATTACH;FMTTYPE=image/jpeg:https://www.arabamerica.com/wp-content/uploads/2
 023/08/https___cdn.evbuc_.com_images_568222819_132843056333_1_original.jpe
 g
CATEGORIES:Arab Ameircan Event,Arab America Foundation,Arab
 American,Community,culture,Networking
LOCATION:Palestinian American Community Center\, 388 Lakeview Ave\, Clifton
 \, NJ\, United States
GEO:40.8883181;-74.13914640000002
X-APPLE-STRUCTURED-LOCATION;VALUE=URI;X-ADDRESS=388 Lakeview Ave\, Clifton\
 , NJ\, United States;X-APPLE-RADIUS=100;X-TITLE=Palestinian American Commu
 nity Center:geo:40.8883181,-74.13914640000002
END:VEVENT
BEGIN:VTIMEZONE
TZID:America/Detroit
X-LIC-LOCATION:America/Detroit
BEGIN:DAYLIGHT
DTSTART:20230312T030000
TZOFFSETFROM:-0500
TZOFFSETTO:-0400
TZNAME:EDT
END:DAYLIGHT
END:VTIMEZONE
END:VCALENDAR