BEGIN:VCALENDAR
VERSION:2.0
PRODID:-//wp-events-plugin.com//7.2.3.1//EN
TZID:America/Detroit
X-WR-TIMEZONE:America/Detroit
BEGIN:VEVENT
UID:31521@arabamerica.com
DTSTART;TZID=America/Detroit:20230819T113000
DTEND;TZID=America/Detroit:20230819T130000
DTSTAMP:20230817T225551Z
URL:https://www.arabamerica.com/events/team-new-york-yalla-connect-2/
SUMMARY:Team New York--Yalla Connect!
DESCRIPTION:\n\n\n\n\n\n\n&nbsp\;\n\nCalling all Arab Americans in New York
  City! Join us for a meet and greet event where we will connect with fello
 w Arabs in the city\, celebrate our heritage\, and learn more about the wo
 rk of the Arab America Foundation.\n\nYou'll also have the chance to meet 
 the Co-Founders\, Warren and Dr. Amal David\, from Washington DC. Together
  with their grass-roots network\, they are the driving force behind a nati
 onwide movement that has achieved remarkable growth. Don't miss out on thi
 s unique opportunity to be a part of this impactful initiative for Arab Am
 ericans.\n\nJoin us as we meet over coffee and delicious Arab sweets. Admi
 ssion is free of charge. Delicious knafeh\, coffee\, and refreshments will
  be served!\n\nThe event begins at 11:30 am and ends at 1:00 pm.\n\nPlease
  confirm no later than Thursday\, August 17\, 2023.\n\nFor information cal
 l: 877-272-2944\n\nDonations are always welcome to the Arab America Found
 ation\, a non-profit (501c3) cultural and educational organization.\n\n\n\
 n\n\n\n\n\n\n
ATTACH;FMTTYPE=image/jpeg:https://www.arabamerica.com/wp-content/uploads/2
 023/08/https___cdn.evbuc_.com_images_569057569_132843056333_1_original-1.j
 peg
CATEGORIES:#arabic,Arab Ameircan Event,Arab American,Community,culture
LOCATION:IAIA | Institute of Arab and Islamic Art 22 Christopher Street New
  York\, IAIA | Institute of Arab and Islamic Art 22 Christopher Street New
  York\, NY 10014\, New York\, New York\, 10014\, United States
GEO:40.733767;-74.000736
X-APPLE-STRUCTURED-LOCATION;VALUE=URI;X-ADDRESS=IAIA | Institute of Arab an
 d Islamic Art 22 Christopher Street New York\, NY 10014\, New York\, New Y
 ork\, 10014\, United States;X-APPLE-RADIUS=100;X-TITLE=IAIA | Institute of
  Arab and Islamic Art 22 Christopher Street New York:geo:40.733767,-74.000
 736
END:VEVENT
BEGIN:VTIMEZONE
TZID:America/Detroit
X-LIC-LOCATION:America/Detroit
BEGIN:DAYLIGHT
DTSTART:20230312T030000
TZOFFSETFROM:-0500
TZOFFSETTO:-0400
TZNAME:EDT
END:DAYLIGHT
END:VTIMEZONE
END:VCALENDAR