BEGIN:VCALENDAR
VERSION:2.0
PRODID:-//wp-events-plugin.com//7.2.3.1//EN
TZID:America/Detroit
X-WR-TIMEZONE:America/Detroit
BEGIN:VEVENT
UID:31571@arabamerica.com
DTSTART;TZID=America/Detroit:20230903T110000
DTEND;TZID=America/Detroit:20230903T123000
DTSTAMP:20230817T215053Z
URL:https://www.arabamerica.com/events/team-ohio-toledo-zaatar-manouche-an
 d-more/
SUMMARY:Team Ohio\, Toledo--Za'atar Man'ouche and More
DESCRIPTION:As part of the Arab America Foundation's mission to connect and
  empower Arab Americans\, cousins\, and friends are welcome to connect wit
 h each other and enjoy za'atar/man'ouche\, foul and more at Sidon Lebanese
  Grille and Bakery\, 4625 W Bancroft St\, Toledo\, OH 43615\n\nWarren and 
 Dr. Amal David\, co-founders of the Arab America Foundation\, along with L
 inda Mansour\, National Board Member\, will be sharing a brief yet thrilli
 ng insight into their dynamic "movement" and forthcoming plans for success
  throughout America.\n\nThe event begins at 11:00 am and ends at 12:30 pm.
 \n\nPlease confirm no later than Friday\, September 1st.\n\nFor informatio
 n call: 877-272-2944\n\nDonations are always welcome to the Arab America 
 Foundation\, a non-profit (501c3) cultural and educational organization.
ATTACH;FMTTYPE=image/jpeg:https://www.arabamerica.com/wp-content/uploads/2
 023/08/https___cdn.evbuc_.com_images_564742169_132843056333_1_original.jpe
 g
CATEGORIES:Arab Ameircan Event,Arab America Foundation,Arab American,Arab
 Food,Community,culture,Discussion,Networking,texas
END:VEVENT
BEGIN:VTIMEZONE
TZID:America/Detroit
X-LIC-LOCATION:America/Detroit
BEGIN:DAYLIGHT
DTSTART:20230312T030000
TZOFFSETFROM:-0500
TZOFFSETTO:-0400
TZNAME:EDT
END:DAYLIGHT
END:VTIMEZONE
END:VCALENDAR