BEGIN:VCALENDAR
VERSION:2.0
PRODID:-//wp-events-plugin.com//7.2.3.1//EN
TZID:America/Detroit
X-WR-TIMEZONE:America/Detroit
BEGIN:VEVENT
UID:31504@arabamerica.com
DTSTART;TZID=America/Detroit:20230904T130000
DTEND;TZID=America/Detroit:20230904T150000
DTSTAMP:20230808T152211Z
URL:https://www.arabamerica.com/events/team-ohio-yalla-connect/
SUMMARY:Team Ohio--Yalla Connect!
DESCRIPTION:\n\n\n\n\nAs part of the Arab America Foundation's mission to c
 onnect and empower Arab Americans\, we invite all cousins and friends to j
 oin Team Ohio at Syriana Mediterranean Cuisine\, 26920 Center Ridge Road\,
  Westlake\, OH\, 44145.\n\nCome and indulge in delightful appetizers while
  enjoying an atmosphere filled with fun and Arab music. We look forward to
  sharing this memorable experience with you.\n\nThe event begins at 1:00 p
 m and ends at 3:00 pm.\n\nPlease confirm no later than Thursday\, August 3
 1st.\n\nFor information call:\n\nDonations are always welcome to the Arab
  America Foundation\, a non-profit (501c3) cultural and educational organi
 zation.\n\n\n\n\n\n\nArab Musician and Voaclaist\, Muaz Edris\n\n\n\n\n
ATTACH;FMTTYPE=image/jpeg:https://www.arabamerica.com/wp-content/uploads/2
 023/08/https___cdn.evbuc_.com_images_564885519_132843056333_1_original.jpe
 g
CATEGORIES:Arab Ameircan Event,Arab America Foundation,Arab American,Arab
 Cuisine,Arab Singer,Community,culture,Food,Networking
LOCATION:Syriana Mediterranean Cuisine\, 26920 Center Ridge Road\, Westlake
 \, OH\, 44145\, United States
GEO:41.451111;-81.919507
X-APPLE-STRUCTURED-LOCATION;VALUE=URI;X-ADDRESS=26920 Center Ridge Road\, W
 estlake\, OH\, 44145\, United States;X-APPLE-RADIUS=100;X-TITLE=Syriana Me
 diterranean Cuisine:geo:41.451111,-81.919507
END:VEVENT
BEGIN:VTIMEZONE
TZID:America/Detroit
X-LIC-LOCATION:America/Detroit
BEGIN:DAYLIGHT
DTSTART:20230312T030000
TZOFFSETFROM:-0500
TZOFFSETTO:-0400
TZNAME:EDT
END:DAYLIGHT
END:VTIMEZONE
END:VCALENDAR