BEGIN:VCALENDAR
VERSION:2.0
PRODID:-//wp-events-plugin.com//7.2.3.1//EN
TZID:America/Detroit
X-WR-TIMEZONE:America/Detroit
BEGIN:VEVENT
UID:31570@arabamerica.com
DTSTART;TZID=America/Detroit:20230908T180000
DTEND;TZID=America/Detroit:20230908T210000
DTSTAMP:20230816T154327Z
URL:https://www.arabamerica.com/events/team-texas-dallas-welcomes-arab-ame
 rica-foundation/
SUMMARY:Team Texas - Dallas Welcomes Arab America Foundation
DESCRIPTION:ARLINGTON\, TX
ATTACH;FMTTYPE=image/jpeg:https://www.arabamerica.com/wp-content/uploads/2
 023/08/366797916_1257402198300516_1596867494368766757_n.jpg
LOCATION:The Ateek's Garden\, 1908 Tudor Court\, Arlington\, TX\, 76017\, U
 nited States
GEO:32.665917;-97.137221
X-APPLE-STRUCTURED-LOCATION;VALUE=URI;X-ADDRESS=1908 Tudor Court\, Arlingto
 n\, TX\, 76017\, United States;X-APPLE-RADIUS=100;X-TITLE=The Ateek's Gard
 en:geo:32.665917,-97.137221
END:VEVENT
BEGIN:VTIMEZONE
TZID:America/Detroit
X-LIC-LOCATION:America/Detroit
BEGIN:DAYLIGHT
DTSTART:20230312T030000
TZOFFSETFROM:-0500
TZOFFSETTO:-0400
TZNAME:EDT
END:DAYLIGHT
END:VTIMEZONE
END:VCALENDAR