BEGIN:VCALENDAR
VERSION:2.0
PRODID:-//wp-events-plugin.com//7.2.3.1//EN
TZID:America/Detroit
X-WR-TIMEZONE:America/Detroit
BEGIN:VEVENT
UID:31505@arabamerica.com
DTSTART;TZID=America/Detroit:20230910T123000
DTEND;TZID=America/Detroit:20230910T140000
DTSTAMP:20230805T133811Z
URL:https://www.arabamerica.com/events/team-texas-zaatar-manouche-and-more
 /
SUMMARY:Team Texas--Za'atar Man'ouche and More
DESCRIPTION:As part of the Arab America Foundation's mission to connect and
  empower Arab Americans\, cousins\, and friends are welcome to connect wit
 h each other and enjoy za'atar/man'ouche\, foul and more.\n\nWarren and Dr
 . Amal David\, co-founders of the Arab America Foundation\, will be sharin
 g a brief yet thrilling insight into their dynamic "movement" and forthcom
 ing plans for success throughout America.\n\nThe event begins at 12:30 pm 
 and ends at 2:00 pm.\n\nPlease confirm no later than Friday\, September 8t
 h.\n\nFor information call: 877-272-2944\n\nDonations are always welcome t
 o the Arab America Foundation\, a non-profit (501c3) cultural and educati
 onal organization.
ATTACH;FMTTYPE=image/jpeg:https://www.arabamerica.com/wp-content/uploads/2
 023/08/https___cdn.evbuc_.com_images_564742169_132843056333_1_original.jpe
 g
CATEGORIES:Arab Ameircan Event,Arab America Foundation,Arab American,Arab
 Food,Community,culture,Discussion,Networking,texas
LOCATION:Syrian American Club Inc\, 5729 Winsome Lane\, Houston\, TX\, 7705
 7\, United States
GEO:29.735027;-95.480026
X-APPLE-STRUCTURED-LOCATION;VALUE=URI;X-ADDRESS=5729 Winsome Lane\, Houston
 \, TX\, 77057\, United States;X-APPLE-RADIUS=100;X-TITLE=Syrian American C
 lub Inc:geo:29.735027,-95.480026
END:VEVENT
BEGIN:VTIMEZONE
TZID:America/Detroit
X-LIC-LOCATION:America/Detroit
BEGIN:DAYLIGHT
DTSTART:20230312T030000
TZOFFSETFROM:-0500
TZOFFSETTO:-0400
TZNAME:EDT
END:DAYLIGHT
END:VTIMEZONE
END:VCALENDAR