BEGIN:VCALENDAR
VERSION:2.0
PRODID:-//wp-events-plugin.com//7.2.3.1//EN
TZID:America/Detroit
X-WR-TIMEZONE:America/Detroit
BEGIN:VEVENT
UID:30427@arabamerica.com
DTSTART;TZID=America/Detroit:20230408T120000
DTEND;TZID=America/Detroit:20230408T120000
DTSTAMP:20230407T172303Z
URL:https://www.arabamerica.com/events/telling-your-story-family-history-p
 reservation-workshop/
SUMMARY:Telling Your Story: Family History Preservation Workshop
DESCRIPTION:\nTelling Your Story: Family History Preservation Workshop\nIn-
 person at AANM\nFREE with RSVP\n\nHappy Arab American Heritage Month! Have
  you ever been interested in preserving your Arab American family story? D
 o you have a box of old family photos and documents? Have you ever wanted 
 to make a family tree?\n\nJoin AANM community history and archive staff al
 ong with our event partner\, Family Search\, for a free family history wor
 kshop. Workshop attendees will learn basic photo and document preservation
 \, receive free archival supplies\, learn how archives work and have a cha
 nce to make a family tree.
ATTACH;FMTTYPE=image/jpeg:https://www.arabamerica.com/wp-content/uploads/2
 023/02/family-archive-pic-2048x1516-1.jpeg
CATEGORIES:Community,culture,Discussion
LOCATION:The Annex at the Arab American National Museum\, 13624 Michigan Av
 e.\, Dearborn\, Michigan\, United States
GEO:42.3222224;-83.1766346
X-APPLE-STRUCTURED-LOCATION;VALUE=URI;X-ADDRESS=13624 Michigan Ave.\, Dearb
 orn\, Michigan\, United States;X-APPLE-RADIUS=100;X-TITLE=The Annex at the
  Arab American National Museum:geo:42.3222224,-83.1766346
END:VEVENT
BEGIN:VTIMEZONE
TZID:America/Detroit
X-LIC-LOCATION:America/Detroit
BEGIN:DAYLIGHT
DTSTART:20230312T030000
TZOFFSETFROM:-0500
TZOFFSETTO:-0400
TZNAME:EDT
END:DAYLIGHT
END:VTIMEZONE
END:VCALENDAR