BEGIN:VCALENDAR
VERSION:2.0
PRODID:-//wp-events-plugin.com//7.2.3.1//EN
TZID:America/Detroit
X-WR-TIMEZONE:America/Detroit
BEGIN:VEVENT
UID:34403@arabamerica.com
DTSTART;TZID=America/Detroit:20250513T000000
DTEND;TZID=America/Detroit:20250514T000000
DTSTAMP:20250513T161544Z
URL:https://www.arabamerica.com/events/test-3/
SUMMARY:Test
DESCRIPTION:
END:VEVENT
BEGIN:VTIMEZONE
TZID:America/Detroit
X-LIC-LOCATION:America/Detroit
BEGIN:DAYLIGHT
DTSTART:20250309T030000
TZOFFSETFROM:-0500
TZOFFSETTO:-0400
TZNAME:EDT
END:DAYLIGHT
END:VTIMEZONE
END:VCALENDAR