BEGIN:VCALENDAR
VERSION:2.0
PRODID:-//wp-events-plugin.com//7.2.3.1//EN
TZID:America/Detroit
X-WR-TIMEZONE:America/Detroit
BEGIN:VEVENT
UID:36120@arabamerica.com
DTSTART;TZID=America/Detroit:20260402T190000
DTEND;TZID=America/Detroit:20260404T200000
DTSTAMP:20260401T001225Z
URL:https://www.arabamerica.com/events/test-flight-week-4-the-wolf-%d8%a7%
 d9%84%d8%b0%d9%8a%d8%a8/
SUMMARY:Test Flight Week 4: The Wolf الذيب
DESCRIPTION:\n\nThe Wolf الذيب\nMasrah Cleveland Al-Arabi مسرح 
 كليفلاند العربي\nWritten and directed by Shakeeb Julien\nCre
 ative Partner/Producer: Rita El Jamous\n\n\nA young villager convinces a w
 ar weary warrior to take them as an apprentice. As they travel\, they meet
  colorful characters\, growing with every new encounter. Will you be the s
 ame when you finally make your way back home?\n\nContent Disclosure: Mild
  violence.\n\n\n\n\n\nEVERY TICKET is "Choose What You Pay" and will be of
 fered online\, over the phone\, and at the Box Office. (Advanced online e
 -ticket purchases are recommended to avoid long lines at the box office wi
 ndow the day of the show.)\n\n\n\n\n
ATTACH;FMTTYPE=image/jpeg:https://www.arabamerica.com/wp-content/uploads/2
 026/03/WEB_VERT_THE_WOLF.jpg
CATEGORIES:Community,culture
LOCATION:James Levin Theatre\,  6415 Detroit Rd\, Cleaveland\, OH\, 44102\,
  United States
GEO:41.4839633;-81.72934099999998
X-APPLE-STRUCTURED-LOCATION;VALUE=URI;X-ADDRESS= 6415 Detroit Rd\, Cleavela
 nd\, OH\, 44102\, United States;X-APPLE-RADIUS=100;X-TITLE=James Levin The
 atre:geo:41.4839633,-81.72934099999998
END:VEVENT
BEGIN:VTIMEZONE
TZID:America/Detroit
X-LIC-LOCATION:America/Detroit
BEGIN:DAYLIGHT
DTSTART:20260308T030000
TZOFFSETFROM:-0500
TZOFFSETTO:-0400
TZNAME:EDT
END:DAYLIGHT
END:VTIMEZONE
END:VCALENDAR