BEGIN:VCALENDAR
VERSION:2.0
PRODID:-//wp-events-plugin.com//7.2.3.1//EN
TZID:America/Detroit
X-WR-TIMEZONE:America/Detroit
BEGIN:VEVENT
UID:34295@arabamerica.com
DTSTART;TZID=America/Detroit:20250504T120000
DTEND;TZID=America/Detroit:20250504T160000
DTSTAMP:20250413T211116Z
URL:https://www.arabamerica.com/events/texas-halal-bbq-competition/
SUMMARY:Texas Halal BBQ Competition
DESCRIPTION:Plano\, TX\nTexas Halal BBQ Competition 2025\n&#x1f356\; The Ul
 timate BBQ Showdown is BACK! &#x1f356\;\n\nGet ready for a sizzling aftern
 oon of food\, fun\, and friendly competition at the Texas Halal BBQ Compet
 ition — where the best pitmasters from across Texas go head-to-head for 
 BBQ bragging rights!\n\nBring your friends\, your family\, and your appeti
 te — this is not your average BBQ event.\n\nJoin us for the 7th Annual T
 exas Halal BBQ Competition\, where the Lone Star State's finest pitmasters
  come together to showcase their skills in crafting mouthwatering halal ba
 rbecue. This family-friendly event promises a day filled with delicious fo
 od\, vibrant community spirit\, and friendly competition.\nEvent Details:\
 n&#x1f4c5\; Sunday\, May 4th\, 2025\n&#x23f0\; 12:00 PM – 4:00 PM\n&#x1f
 4cd\; Green Vine Market – Plano\, TX\n\nWhether you’re a BBQ lover\, a
  foodie\, or just looking for a fun day out with family &amp\; friends —
  this event is for YOU.\nTicket Information:\n→ General Admission: $100 
 per person\n(Includes access to event &amp\; tasting portions from competi
 ng BBQ teams)\n\nLimited tickets available – this event will sell out!\n
 \nFor more information\, including team registration and sponsorship oppor
 tunities\, visit our official website: Halal BBQ Pitmasters\nReady to eat\
 , compete\, and make a difference?\nGrab your tickets today and come exper
 ience Texas BBQ with a halal twist! Secure your spot and support a worthy 
 cause by purchasing your ticket today!\n\nEvent Highlights:\n\n 	Live BBQ 
 Showdown: Watch as talented teams compete in various categories\, bringing
  their unique flavors and techniques to the grill.\n 	Tasting Opportunitie
 s: Sample a diverse array of halal barbecue dishes\, from traditional bris
 ket to innovative creations.\n 	Community Engagement: Connect with fellow 
 barbecue enthusiasts and learn more about halal cooking practices.\n\nProc
 eeds from the event will support humanitarian efforts in Gaza\, aligning o
 ur love for great food with a meaningful cause.\n\nHumaniti Foundation is 
 a registered charity in the United States. Our charitable registration num
 ber in the USA we are a 501(c)(3) U.S. Nonprofit with Tax ID 92-3079413.\n
 \nAt Humaniti\, we are catalyzing a global revolution. We’re combining t
 he vibrant forces of entrepreneurship\, innovation\, and collaboration to 
 solve the world’s most monumental challenges.\nWe believe we can change 
 the world\, but we must do it together.\n“Leaving humanity better than w
 e found it.”
ATTACH;FMTTYPE=image/jpeg:https://www.arabamerica.com/wp-content/uploads/2
 025/04/Screenshot-2025-04-13-at-5.17.49 PM.png
LOCATION:green vine market\, 1804 K Avenue\, Pla\, United States
GEO:37.09024;-95.712891
X-APPLE-STRUCTURED-LOCATION;VALUE=URI;X-ADDRESS=1804 K Avenue\, Pla\, Unite
 d States;X-APPLE-RADIUS=100;X-TITLE=green vine market:geo:37.09024,-95.712
 891
END:VEVENT
BEGIN:VTIMEZONE
TZID:America/Detroit
X-LIC-LOCATION:America/Detroit
BEGIN:DAYLIGHT
DTSTART:20250309T030000
TZOFFSETFROM:-0500
TZOFFSETTO:-0400
TZNAME:EDT
END:DAYLIGHT
END:VTIMEZONE
END:VCALENDAR