BEGIN:VCALENDAR
VERSION:2.0
PRODID:-//wp-events-plugin.com//7.2.3.1//EN
TZID:America/Detroit
X-WR-TIMEZONE:America/Detroit
BEGIN:VEVENT
UID:35466@arabamerica.com
DTSTART;TZID=America/Detroit:20251126T190000
DTEND;TZID=America/Detroit:20251126T190000
DTSTAMP:20251124T233441Z
URL:https://www.arabamerica.com/events/thanksgiving-eve-party-noor-nights-
 shisha-silk-by-alayna/
SUMMARY:THANKSGIVING EVE PARTY - NOOR NIGHTS: SHISHA & SILK by ALAYNA
DESCRIPTION:\n\nOverview\n\n\n\n\n\nThanksgiving Eve like never before! Fas
 hion\, chai\, global eats\, DJ\, Dubai laser hookah &amp\; more at Garden 
 Social with ALAYNA!\n\n\n\n\nNOOR NIGHTS: SHISHA &amp\; SILK by ALAYNA\n\n
 &#x1f9e1\; ALAYNA Presents: Thanksgiving Eve at GARDEN SOCIAL\nCome Exper
 ience: Fashion. Farshi. Flavor. Fire. Fusion.\n\nThis Thanksgiving Eve\, t
 rade the turkey for tikka\, tunes\, and timeless fashion as ALAYNA tra
 nsforms GARDEN SOCIAL into a one-night cultural escape — fusing desi 
 glam\, global flavors\, and unforgettable vibes.\n&#x1f525\; What’s Ha
 ppening:\n&#x1f460\; Runway Show\nBe the first to witness ALAYNA’s lat
 est drop — a bold\, elegant fusion of Pakistani fashion with a modern e
 dge. Celebrate tradition through fabric\, flair\, and fierce design.\n\n&#
 x1f6cd\;&#xfe0f\; Pop-Up Bazaar\nShop ALAYNA’s newest collection alongs
 ide curated vendors including Almari Collective and more. Discover fashi
 on\, accessories\, home decor\, and gifts in an elevated marketplace.\n\n&
 #x1f362\; Flavor &amp\; Fire – A Global Tasting Experience\n\n 	Authen
 tic Hawaiian BBQ\n 	Pakistani street food favorites\n 	Fusion eats with 
 bold spices &amp\; modern twists\n 	Signature mocktails from Garden Soci
 al\n 	Savore Coffee Cart serving rich\, aromatic karak chai\, other chai
  blends &amp\; sweet treats at our cozy chai lounge\n\n&#x1f3b6\; Live DJ
  + Cultural Beats\nDance under the stars to a high-energy mix of:\n\n 	Sou
 th Asian bangers\n 	Arab house mixes\n 	Desi remixes &amp\; Bollywood anth
 ems\nA musical journey from Lahore to Lebanon.\n\n&#x1f4a8\; NOOR SHISHA
  – Dubai Laser Hookah Lounge + LUDO + CARROM BOARDS!!\nExperience the f
 irst-ever Dubai laser hookah in the DMV\, brought to you by NOOR SHISHA
  — sleek\, futuristic\, and flavor-packed. A true vibe you won’t find
  anywhere else.\n\n&#x1f33f\; The Venue: GARDEN SOCIAL\nA lush\, Instagra
 m-worthy escape filled with ambient lighting\, cozy corners\, and cultural
  soul. The perfect backdrop for a night of fashion\, flavor\, and fusion.\
 n\n&#x1f4bc\; Interested in Being a Vendor?\nWe’re curating a select gr
 oup of high-quality vendors.\n&#x1f39f\;&#xfe0f\; Vendor Fee: $50\n&#x1f4
 de\; Contact Anam Gul at 571-355-5559 to apply.\n&#x1f4ab\; This isn
 ’t just a party — it’s a full cultural takeover.\nFashion. Farshi. F
 lavor. Fire. Fusion.\nNOOR SHISHA | Live DJ | Global Bites | Savore Coffee
  | Desi Marketplace\nGrab your crew. Come dressed to impress.\nLet’s mak
 e DMV history.\n\n\nTICKETS ARE REQUIRED FOR ALL GUESTS!\n\n\n\n\n\n
LOCATION:Garden Social\, 4363 John Marr Drive\, Annandale\, VA\, 22003\, Un
 ited States
GEO:38.83017;-77.188105
X-APPLE-STRUCTURED-LOCATION;VALUE=URI;X-ADDRESS=4363 John Marr Drive\, Anna
 ndale\, VA\, 22003\, United States;X-APPLE-RADIUS=100;X-TITLE=Garden Socia
 l:geo:38.83017,-77.188105
END:VEVENT
BEGIN:VTIMEZONE
TZID:America/Detroit
X-LIC-LOCATION:America/Detroit
BEGIN:STANDARD
DTSTART:20251102T010000
TZOFFSETFROM:-0400
TZOFFSETTO:-0500
TZNAME:EST
END:STANDARD
END:VTIMEZONE
END:VCALENDAR