BEGIN:VCALENDAR
VERSION:2.0
PRODID:-//wp-events-plugin.com//7.2.3.1//EN
TZID:America/Detroit
X-WR-TIMEZONE:America/Detroit
BEGIN:VEVENT
UID:36104@arabamerica.com
DTSTART;TZID=America/Detroit:20260411T130000
DTEND;TZID=America/Detroit:20260411T170000
DTSTAMP:20260331T150527Z
URL:https://www.arabamerica.com/events/the-4th-annual-dc-arab-culture-fest
 ival-2026/
SUMMARY:The 4th Annual DC Arab Culture Festival 2026
DESCRIPTION:WASHINGTON\, DC\n\n&nbsp\;\n\n\n\nThe DC Arab Culture Festival 
 is more than just an event\; it is a safe space for communal solidarity th
 rough art\, culture\, and activism\n\n\n\n\n\n\n&#x1f389\; We’re back fo
 r year four! The DC Arab Culture Festival has become a cornerstone event
  celebrating Arab and Arab American culture in Washington\, DC. After la
 st year’s packed celebration at the Kennedy Center’s REACH\, with over
  1\,100 attendees\, we’re thrilled to return with a vibrant\, communit
 y-powered experience this summer.\n\nThe Kennedy Center team called last y
 ear’s festival “a tremendous success.” The event was also featured i
 n The Washington Post’s “Best Things to Do in August 2024” and cov
 ered by Al Hurra\, The Iraqi Media Network\, Arab America Foundation\, 
 and the New England Network for Justice for Palestine\; testament to its
  growing impact and reach.\n\nhttps://www.eventbrite.com/e/the-4th-annual-
 dc-arab-culture-festival-2026-tickets-1985341066574?aff=ebdssbdestsearch\n
 \n\n
ATTACH;FMTTYPE=image/jpeg:https://www.arabamerica.com/wp-content/uploads/2
 026/03/image-6-2.webp
LOCATION:The Festival Center\, 1640 Columbia Road Northwest #2nd Floor\, Wa
 shington\, D.C. \, 20009\, United States
GEO:38.925253;-77.038141
X-APPLE-STRUCTURED-LOCATION;VALUE=URI;X-ADDRESS=1640 Columbia Road Northwes
 t #2nd Floor\, Washington\, D.C. \, 20009\, United States;X-APPLE-RADIUS=1
 00;X-TITLE=The Festival Center:geo:38.925253,-77.038141
END:VEVENT
BEGIN:VTIMEZONE
TZID:America/Detroit
X-LIC-LOCATION:America/Detroit
BEGIN:DAYLIGHT
DTSTART:20260308T030000
TZOFFSETFROM:-0500
TZOFFSETTO:-0400
TZNAME:EDT
END:DAYLIGHT
END:VTIMEZONE
END:VCALENDAR