BEGIN:VCALENDAR
VERSION:2.0
PRODID:-//wp-events-plugin.com//7.2.3.1//EN
TZID:America/Detroit
X-WR-TIMEZONE:America/Detroit
BEGIN:VEVENT
UID:35872@arabamerica.com
DTSTART;TZID=America/Detroit:20260225T183000
DTEND;TZID=America/Detroit:20260225T201500
DTSTAMP:20260216T210539Z
URL:https://www.arabamerica.com/events/the-affordability-crisis-and-the-ro
 ad-to-peace-in-israel-palestine/
SUMMARY:The Affordability Crisis and the Road to Peace in Israel-Palestine
DESCRIPTION:A conversation\n\nJoin Rula Daood and Uri Weltmann\, Palestinia
 n and Jewish members of Standing Together's leadership\, in a conversation
  on their grassroots movement\, next steps beyond this imperfect ceasefire
 \, how to address the affordability crisis\, and how joint Jewish-Palestin
 ian organizing on the ground is the key to ending the occupation and achie
 ving a just peace.
ATTACH;FMTTYPE=image/jpeg:https://www.arabamerica.com/wp-content/uploads/2
 026/02/image-6-2.webp
LOCATION:151 W 30th St 3rd floor\, 151 West 30th Street\, New York\, NY\, 1
 0001\, United States
GEO:40.74836;-73.991867
X-APPLE-STRUCTURED-LOCATION;VALUE=URI;X-ADDRESS=151 West 30th Street\, New 
 York\, NY\, 10001\, United States;X-APPLE-RADIUS=100;X-TITLE=151 W 30th St
  3rd floor:geo:40.74836,-73.991867
END:VEVENT
BEGIN:VTIMEZONE
TZID:America/Detroit
X-LIC-LOCATION:America/Detroit
BEGIN:STANDARD
DTSTART:20251102T010000
TZOFFSETFROM:-0400
TZOFFSETTO:-0500
TZNAME:EST
END:STANDARD
END:VTIMEZONE
END:VCALENDAR