BEGIN:VCALENDAR
VERSION:2.0
PRODID:-//wp-events-plugin.com//7.2.3.1//EN
TZID:America/Detroit
X-WR-TIMEZONE:America/Detroit
BEGIN:VEVENT
UID:35652@arabamerica.com
DTSTART;TZID=America/Detroit:20260111T150000
DTEND;TZID=America/Detroit:20260111T180000
DTSTAMP:20260106T160758Z
URL:https://www.arabamerica.com/events/the-agora-initiative-presents-a-scr
 eening-of-no-other-land-2/
SUMMARY:The Agora Initiative Presents: A Screening of "No Other Land"
DESCRIPTION:CARY\, NC\n\nJoin us for The Agora Initiative’s in-person scr
 eening of "No Other Land" – a must-see film event!\n\n\n\n\nA Screening 
 of No Other Land and a Conversation on Peace\n\nInterested in understand
 ing the Palestinian-Israeli conflict and the unexpected collaborations for
  peace and justice in the region?\n\nJoin us for a thought-provoking eveni
 ng beginning with the Academy Award-winning documentary No Other Land. A 
 panel discussion will follow with Khalil Sayegh (The Agora Initiative) and
  Celeste Marcus (Liberties: A Journal of Culture and Politics).\n\n\nWhen:
  Sunday\, January 11th\, 3 PM EST\nWhere: Greenwood Forest Baptist Churc
 h\, 110 SE Maynard Rd\, Cary\, NC 27511\n\nDon’t miss this opportunity t
 o watch\, listen\, and be encouraged in faith\, hope\, and understanding.\
 n\nWhile the event is free\, please RSVP!\n\n\nABOUT THE PANELISTS:\n\nCel
 este Marcus is the executive editor of Liberties Journal and the author
  of Chaïm Soutine: Genius Obsession\, and a Dramatic Life in Art. She ha
 s written at length about Israel and Palestine for publications around the
  world\, and is at work on a book project about Liberalism\, Zionism\, and
  Fascism. She is also cohost of the podcast Not A Dialogue with Khalil S
 ayegh.\n\nKhalil Sayegh is the Executive Director and founder of Agora In
 itiative and a political analyst focused on the Palestinian-Israeli confli
 ct. Khalil lived most of his life in Gaza and the West Bank\, where he was
  involved in political activism and humanitarian initiatives. Previously\,
  Khalil worked on several international organisations focusing on promotin
 g freedom of religion and the rule of law in the Middle East. He served on
  the board of several humanitarian organisations and grassroots peace orga
 nisations.\n\nKhalil’s writing is featured in several outlets\, includin
 g Al-Monitor\, The New Arab\, The Economist\, and WSJ. He is regularly on 
 TV to offer analyses\, including the BBC\, ABC Australia\, and Al Jazeera.
  He holds a Master's in Political Science from American University\, and a
  Bachelor's Degree in Biblical studies from Bethlehem Bible College. Khali
 l co-hosts the Not a Dialogue podcast with Celeste Marcus.\n\nREGISTER H
 ERE\n\n\n
ATTACH;FMTTYPE=image/jpeg:https://www.arabamerica.com/wp-content/uploads/2
 026/01/Screenshot-2026-01-06-at-11.09.17-AM.png
LOCATION:Greenwood Forest Baptist Church\, 110 Southeast Maynard Road\, Car
 y\, NC\, 27511\, United States
GEO:35.77024;-78.780521
X-APPLE-STRUCTURED-LOCATION;VALUE=URI;X-ADDRESS=110 Southeast Maynard Road\
 , Cary\, NC\, 27511\, United States;X-APPLE-RADIUS=100;X-TITLE=Greenwood F
 orest Baptist Church:geo:35.77024,-78.780521
END:VEVENT
BEGIN:VTIMEZONE
TZID:America/Detroit
X-LIC-LOCATION:America/Detroit
BEGIN:STANDARD
DTSTART:20251102T010000
TZOFFSETFROM:-0400
TZOFFSETTO:-0500
TZNAME:EST
END:STANDARD
END:VTIMEZONE
END:VCALENDAR