BEGIN:VCALENDAR
VERSION:2.0
PRODID:-//wp-events-plugin.com//7.2.3.1//EN
TZID:America/Detroit
X-WR-TIMEZONE:America/Detroit
BEGIN:VEVENT
UID:34349@arabamerica.com
DTSTART;TZID=America/Detroit:20250521T113000
DTEND;TZID=America/Detroit:20250521T220000
DTSTAMP:20250425T202232Z
URL:https://www.arabamerica.com/events/the-american-task-force-on-lebanons
 -nextgen-leadership-summit/
SUMMARY:The American Task Force on Lebanon's NextGen Leadership Summit
DESCRIPTION:As part of ATFL's engagement with the next generation of leader
 s\, we are excited to offer two unique initiatives tailored to young profe
 ssionals. Our Rising Leaders program recognizes the contributions of young
  professionals to US-Lebanon Relations. And our NextGen Leadership Summit 
 will convene young professionals interested in the US-Lebanon bilateral re
 lationship from a policy perspective.\n\nSCHEDULE &amp\; CONTENTS\nTour of
  the US Capitol\n11:30 AM - 12:45 PM\n\nLunch &amp\; Policy Discussion on 
 Capitol Hill\n1:00 PM - 2:30 PM\n\nPolicy Discussion at Library of Congres
 s (Details TBA)\n3:00 PM - 4:00 PM\n\nOne Ticket to the ATFL Annual Gala D
 inner\n5:30 PM - 10:00 PM\nPackage cost: $1\,000\n\nParticipation is limit
 ed to young professionals 35 and under.\n\nSpace is Limited!\n\nDress Code
 : Business Attire\n\nComfortable walking shoes are recommended!\nDETAILS\n
 INQUIRIES &amp\; REGISTRATION\nPlease contact:\nkristen.kouttab@atfl.org
ATTACH;FMTTYPE=image/jpeg:https://www.arabamerica.com/wp-content/uploads/2
 025/04/Screenshot-2025-04-25-at-4.21.31 PM.png
LOCATION:The Capital\, East Capitol Street\, Washington DC\, Washington DC\
 , 20004\, United States
GEO:38.889672;-76.956068
X-APPLE-STRUCTURED-LOCATION;VALUE=URI;X-ADDRESS=East Capitol Street\, Washi
 ngton DC\, Washington DC\, 20004\, United States;X-APPLE-RADIUS=100;X-TITL
 E=The Capital:geo:38.889672,-76.956068
END:VEVENT
BEGIN:VTIMEZONE
TZID:America/Detroit
X-LIC-LOCATION:America/Detroit
BEGIN:DAYLIGHT
DTSTART:20250309T030000
TZOFFSETFROM:-0500
TZOFFSETTO:-0400
TZNAME:EDT
END:DAYLIGHT
END:VTIMEZONE
END:VCALENDAR