BEGIN:VCALENDAR
VERSION:2.0
PRODID:-//wp-events-plugin.com//7.2.3.1//EN
TZID:America/Detroit
X-WR-TIMEZONE:America/Detroit
BEGIN:VEVENT
UID:34999@arabamerica.com
DTSTART;TZID=America/Detroit;VALUE=DATE:20251015
DTEND;TZID=America/Detroit;VALUE=DATE:20251016
DTSTAMP:20250816T135349Z
URL:https://www.arabamerica.com/events/the-arab-american-short-story-conte
 st/
SUMMARY:The Arab American Short Story Contest
DESCRIPTION:For contest details and registration\, click here
ATTACH;FMTTYPE=image/jpeg:https://www.arabamerica.com/wp-content/uploads/2
 025/08/c8e3e80f-523c-42b3-931e-f1b354b47f5d.jpeg
END:VEVENT
BEGIN:VTIMEZONE
TZID:America/Detroit
X-LIC-LOCATION:America/Detroit
BEGIN:DAYLIGHT
DTSTART:20250309T030000
TZOFFSETFROM:-0500
TZOFFSETTO:-0400
TZNAME:EDT
END:DAYLIGHT
END:VTIMEZONE
END:VCALENDAR