BEGIN:VCALENDAR
VERSION:2.0
PRODID:-//wp-events-plugin.com//7.2.3.1//EN
TZID:America/Detroit
X-WR-TIMEZONE:America/Detroit
BEGIN:VEVENT
UID:33593@arabamerica.com
DTSTART;TZID=America/Detroit:20241003T183000
DTEND;TZID=America/Detroit:20241003T183000
DTSTAMP:20241001T144348Z
URL:https://www.arabamerica.com/events/the-arab-blues-roberts-westside/
SUMMARY:The Arab Blues @ Robert's Westside
DESCRIPTION:Chicago\, Illinois\n\n\n\nRobert's Westside:\n\nTHE ARAB BLUES\
 n\nThe Arab Blues traces an innovative trajectory between the call of trad
 ition and the response of the diaspora. The synthesis Rami Gabriel and Kar
 im Nagi create is a sonic expression of the power and persistence of il Tu
 rath within the unique cultural conditions of North America.\n\nNet Ticket
  Proceeds to benefit Beit el Baraka &amp\; World Food Program USA aiding G
 aza\nBeit el Baraka: https://beitelbaraka.org/\nWorld Food Program USA / G
 aza: https://www.wfpusa.org/gaza/\n\nGeneral Admission/SRO: $15 + Service 
 Fees\nReserved Table + GA: $20 Per Seat + Service Fees (Sold in groups of 
 4 - 6\, General Admission included)\n\nGeneral Admission tickets do not in
 clude reserved seating. There will be limited General Admission seating av
 ailable for the concert and it will be first come\, first served. If you n
 eed a seat\, please purchase reserved seating.\n\nDoors @ 6:30PM // Music 
 @ 8:00PM // 21+ (Under 21 Allowed w/ Parent / Guardian)\n\nClick link belo
 w to view the Seating Map : General Admission Concert - GA Seating\n\nhttp
 s://robertswestside.com/seatingmaps/\n\n\n\n\n\nThis is a 21+ event (Under
  21 w/ Parent / Guardian).\n\n\nPresented by Robert's Westside.\n\n\n\n$\n
 \nYou can get a refund if:\n\n 	It’s within 24 hours of buying tickets
 \n 	This event is rescheduled or cancelled\n\n\n&nbsp\;\n\n\n\n\n\n\n\nThu
 \, Oct 3\, 6:30 PM CDT\n\n\n\n
ATTACH;FMTTYPE=image/jpeg:https://www.arabamerica.com/wp-content/uploads/2
 024/10/D02CA911-7D3A-498A-B2A9-32CD2856427F.jpeg
LOCATION:Robert's Westside\, 7321 Madison Street\, Forest Park\, Illinois\,
  60130\, United States
GEO:41.87981;-87.808184
X-APPLE-STRUCTURED-LOCATION;VALUE=URI;X-ADDRESS=7321 Madison Street\, Fores
 t Park\, Illinois\, 60130\, United States;X-APPLE-RADIUS=100;X-TITLE=Rober
 t's Westside:geo:41.87981,-87.808184
END:VEVENT
BEGIN:VTIMEZONE
TZID:America/Detroit
X-LIC-LOCATION:America/Detroit
BEGIN:DAYLIGHT
DTSTART:20240310T030000
TZOFFSETFROM:-0500
TZOFFSETTO:-0400
TZNAME:EDT
END:DAYLIGHT
END:VTIMEZONE
END:VCALENDAR