BEGIN:VCALENDAR
VERSION:2.0
PRODID:-//wp-events-plugin.com//7.2.3.1//EN
TZID:America/Detroit
X-WR-TIMEZONE:America/Detroit
BEGIN:VEVENT
UID:35340@arabamerica.com
DTSTART;TZID=America/New_York:20251122T110000
DTEND;TZID=America/New_York:20251122T200000
DTSTAMP:20251112T152713Z
URL:https://www.arabamerica.com/events/the-arab-festival-new-jersey/
SUMMARY:The Arab Festival New Jersey
DESCRIPTION:\nJERSEY CITY\, NEW JERSEY\nCelebrate Arab culture at The Westi
 n Jersey City — 2 days of shopping\, shows\, music &amp\; unforgettable 
 vibes!\n\n\n\n\nThe Arab Festival – New Jersey is back stronger than e
 ver! &#x2728\;\nA 2-day celebration uniting Arabs from all over the U.S. u
 nder one luxurious roof at The Westin Jersey City Newport.\n\nEnjoy a wee
 kend full of shopping\, Arabic food\, live music\, fashion shows\, and fa
 mily fun — all in the vibrant spirit of Arab culture &#x1f1f1\;&#x1f1e7
 \;&#x1f1ea\;&#x1f1ec\;&#x1f1f8\;&#x1f1fe\;&#x1f1ee\;&#x1f1f6\;\n\n&#x2728\
 ; Featuring top social media influencers\, celebrities\, community leader
 s\, and government guests joining us to celebrate unity and culture in st
 yle!\n\n&#x1f5d3\; Dates &amp\; Hours:\n&#x1f4c5\; Saturday\, Nov 22 → 
 11:00 AM – 8:00 PM\n&#x1f4c5\; Sunday\, Nov 23 → 10:00 AM – 4:00 PM\
 n\n&#x1f3a4\; Special Night:\nOn Sunday at 8 PM\, get ready for an unfor
 gettable Arabic concert featuring a very famous singer coming all the way
  from Egypt — whose songs we all know and love! &#x1f3b6\; (Paid entran
 ce only for this concert.)\n\n&#x1f39f\; Festival entrance is free for ev
 eryone!\n\n&#x1f4cd\; The Westin Jersey City Newport\n\n&#x1f3aa\; ال
 مهرجان العربي – نيو جيرسي راجع وبقوّة! &#
 x2728\;\nيومين بيجمعوا العرب من كل الولايات 
 تحت سقف فاخر بـ The Westin Jersey City Newport.\n\nعيشوا
  أجواء مليانة تسوّق، أكل عربي، موسيقى حي
 ّة، عروض أزياء، ومفاجآت – بأحلى طاقة عر
 بية &#x1f1f1\;&#x1f1e7\;&#x1f1ea\;&#x1f1ec\;&#x1f1f8\;&#x1f1fe\;&#x1f1e
 e\;&#x1f1f6\;\n\n&#x2728\; رح يشارك معنا مشاهير ومؤث
 ّرين من السوشال ميديا، وضيوف رسميين من ا
 لحكومة وشخصيّات معروفة ليحتفلوا بالوحد
 ة والثقافة على طريقتنا الفخمة!\n\n&#x1f3a4\; ا
 لليلة الخاصة:\nالأحد الساعة 8 المسا، حفلة 
 عربيّة مميّزة مع نجم مصري مشهور جداً جاي
  خصّيصاً من مصر، وأغانيه الكل بيعرفها وب
 يحبّها! &#x1f3b6\;\n(الدخول مدفوع للحفلة فقط.)\
 n\n&#x1f5d3\; الأوقات:\nالسبت 22 نوفمبر من 11 الص
 بح لـ 8 المسا\nالأحد 23 نوفمبر من 10 الصبح لـ
  4 بعد الظهر\n\n&#x1f39f\; دخول المهرجان مجاني 
 للجميع!\n\n\n
ATTACH;FMTTYPE=image/jpeg:https://www.arabamerica.com/wp-content/uploads/2
 025/10/Screen-Shot-2025-10-29-at-2.09.55-AM.png
LOCATION:The Westin Jersey City Newport\, 479 Washington Boulevard\, Jersey
  City \, New Jersey \, 07310\, United States
GEO:40.724924;-74.036215
X-APPLE-STRUCTURED-LOCATION;VALUE=URI;X-ADDRESS=479 Washington Boulevard\, 
 Jersey City \, New Jersey \, 07310\, United States;X-APPLE-RADIUS=100;X-TI
 TLE=The Westin Jersey City Newport:geo:40.724924,-74.036215
END:VEVENT
BEGIN:VTIMEZONE
TZID:America/New_York
X-LIC-LOCATION:America/New_York
BEGIN:STANDARD
DTSTART:20251102T010000
TZOFFSETFROM:-0400
TZOFFSETTO:-0500
TZNAME:EST
END:STANDARD
END:VTIMEZONE
END:VCALENDAR