BEGIN:VCALENDAR
VERSION:2.0
PRODID:-//wp-events-plugin.com//7.2.3.1//EN
TZID:America/Detroit
X-WR-TIMEZONE:America/Detroit
BEGIN:VEVENT
UID:35071@arabamerica.com
DTSTART;TZID=America/New_York:20250909T163000
DTEND;TZID=America/New_York:20250909T163000
DTSTAMP:20250903T043422Z
URL:https://www.arabamerica.com/events/the-arab-public-and-the-gaza-war-cr
 own-center-fall-kickoff-2/
SUMMARY:The Arab Public and the Gaza War | Crown Center Fall Kickoff
DESCRIPTION:American public opinion is sharply divided over Israel’s mili
 tary actions in the Gaza Strip. But what about public opinion in the Arab 
 world? Join the Crown Center as we kick off the new academic year with a u
 nique conversation featuring leading experts on Arab public opinion—Aman
 ey Jamal and Michael Robbins of the Arab Barometer\, and Khalil Shikaki of
  the Palestinian Center for Policy and Survey Research in Ramallah. Modera
 ted by Michal Ben-Josef Hirsch\, they will explore how people in various A
 rab countries are reacting to the war and what these views might reveal ab
 out the region’s future. Participants Amaney Jamal is dean of the Prince
 ton School of Public and International Affairs\, Edwards S. Sanford Profes
 sor of Politics\, and professor of politics and international affairs at P
 rinceton University. She is also the co-principal investigator of the Arab
  Barometer. Michael Robbins is the director and co-principal investigator 
 of Arab Barometer\, Princeton University. Khalil Shikaki is the director o
 f the Palestinian Center for Policy and Survey Research and a founding sen
 ior fellow of the Crown Center for Middle East Studies. Moderator Michal B
 en-Josef Hirsch is an associate professor in the Department of Political S
 cience and Legal Studies at Suffolk University and a non-resident fellow a
 t the Crown Center for Middle East Studies.
ATTACH;FMTTYPE=image/jpeg:https://www.arabamerica.com/wp-content/uploads/2
 025/09/Screen-Shot-2025-09-03-at-12.33.59-AM.png
END:VEVENT
BEGIN:VTIMEZONE
TZID:America/New_York
X-LIC-LOCATION:America/New_York
BEGIN:DAYLIGHT
DTSTART:20250309T030000
TZOFFSETFROM:-0500
TZOFFSETTO:-0400
TZNAME:EDT
END:DAYLIGHT
END:VTIMEZONE
END:VCALENDAR