BEGIN:VCALENDAR
VERSION:2.0
PRODID:-//wp-events-plugin.com//7.2.3.1//EN
TZID:America/Detroit
X-WR-TIMEZONE:America/Detroit
BEGIN:VEVENT
UID:35578@arabamerica.com
DTSTART;TZID=America/Detroit:20260115T163000
DTEND;TZID=America/Detroit:20260115T183000
DTSTAMP:20251216T184012Z
URL:https://www.arabamerica.com/events/the-arab-spring-fifteen-years-on-cr
 own-center-spring-kickoff/
SUMMARY:The Arab Spring Fifteen Years On Crown Center Spring Kickoff
DESCRIPTION:Hosted by the Brandeis University Crown Center for Middle East 
 Studies. Join Online or In Person!
ATTACH;FMTTYPE=image/jpeg:https://www.arabamerica.com/wp-content/uploads/2
 025/12/20th-735x490-1.jpg
LOCATION:Rapaporte Treasure Hall\, Goldfarb Library\, 415 South St\, Waltha
 m\, MA\, 02453\, United States
GEO:42.368481;-71.257973
X-APPLE-STRUCTURED-LOCATION;VALUE=URI;X-ADDRESS=Goldfarb Library\, 415 Sout
 h St\, Waltham\, MA\, 02453\, United States;X-APPLE-RADIUS=100;X-TITLE=Rap
 aporte Treasure Hall:geo:42.368481,-71.257973
END:VEVENT
BEGIN:VTIMEZONE
TZID:America/Detroit
X-LIC-LOCATION:America/Detroit
BEGIN:STANDARD
DTSTART:20251102T010000
TZOFFSETFROM:-0400
TZOFFSETTO:-0500
TZNAME:EST
END:STANDARD
END:VTIMEZONE
END:VCALENDAR