BEGIN:VCALENDAR
VERSION:2.0
PRODID:-//wp-events-plugin.com//7.2.3.1//EN
TZID:America/Detroit
X-WR-TIMEZONE:America/Detroit
BEGIN:VEVENT
UID:34274@arabamerica.com
DTSTART;TZID=America/Detroit:20250529T180000
DTEND;TZID=America/Detroit:20250529T203000
DTSTAMP:20250407T055401Z
URL:https://www.arabamerica.com/events/the-art-of-spice-blending-special-e
 dition-moroccan-class/
SUMMARY:The Art of Spice Blending - SPECIAL EDITION Moroccan Class
DESCRIPTION:CAMBRIDGE\, MA\n\nReady for some serious spice exploration? Del
 ve into the enchanting world of spice blending in this SPECIAL EDITION of 
 our most popular class with Claire Cheney\, Curio's founder! This class wi
 ll be centered around Morocco\, with proceeds going to the Rose Oasis Proj
 ect - our latest fundraising initiative in support of the community of wom
 en farmers growing Damask roses\, spices\, and herbs in the Vallée Dades 
 Mgoune of Morocco.\n\nShe’ll introduce you to our flavor theory and the 
 principles that we use to make the exquisite blends we’re known for. Cla
 ire will guide you through tasting different spices and teach you about fl
 avor and aroma. She will demonstrate blending techniques and discuss how a
 ttention to details such as texture and color can make a blend sing. And\,
  Claire will share insider knowledge about layering flavor\, roasting spic
 es\, grinding\, sensory analysis\, and training your palate. PLUS\, for th
 is class only\, dive into the world of Moroccan flavors\, with a ONE TIME 
 ONLY Moroccan take-home demonstration spice blend and some delicious Moroc
 can-inspired snacks!\n\nIn the hands-on portion of this class\, you’ll l
 earn to make a Moroccan-inspired 7 spice called “Marrakech” and learn 
 about the flavor palate of Moroccan cuisine\, plus create a blend of your 
 own from our spice cupboard of over 80 intriguing spices. You’ll head ho
 me with Curio's Spice Flavor Wheel\, blending recipes\, and jars of the tw
 o blends you made during class. Join us for this wonder-filled evening! Th
 is is a small class\, limited to 15 participants. Sign up today to reserve
  your spot!\n\nClass price: $100 per person (includes a $20 donation to ou
 r Rose Oasis Cause Campaign)\n\nDrinks and light snacks included.\n\nThurs
 day May 29th\, 6:00 - 8:30pm\n\nAges 12 and up.\n\nQuestions? Email us at 
 events@curiospice.com! We will get back to you as soon as possible!\n\nGiv
 ing this class as a gift? Download a free print-and-fold gift card here.\n
 \nCovid safety: Please respect your fellow attendees. If you feel sick\, s
 tay home.\n\nDirections: The Spice Lab is immediately adjacent to our spic
 e shop\, at 2267 Massachusetts Ave. Metered parking is available along Mas
 s Ave\, or there is a lot at the intersection of Day Street and Herbert St
 reet towards Davis Square if you don't mind a quick walk!\n\nRefund policy
 : Full refund or credit available up to 1 week prior to the event.\n\nClai
 re Cheney founded Curio Spice Co. in 2015 to source spices directly from s
 mall sustainable and socially responsible farms and share their stories th
 rough her unique blends. She's worked in the specialty food and restaurant
  industry since 2008 and has spent years hunting spices all over the globe
 . Curio Spice Co. has been featured in NYT Wirecutter\, Bon Appetit\, The 
 Wall Street Journal and elsewhere. Curio features over 200 spices in their
  website and in their Cambridge MA shop and has a national and internation
 al presence through other retailers. Curio Spice is a mission driven Certi
 fied Benefit Corporation.
ATTACH;FMTTYPE=image/jpeg:https://www.arabamerica.com/wp-content/uploads/2
 025/04/Screenshot-2025-04-07-at-2.00.51 AM.png
LOCATION:2267 Massachusetts Ave\, 2267 Massachusetts Ave\, Cambridge\, MA\,
  02140\, United States
GEO:42.394574;-71.126737
X-APPLE-STRUCTURED-LOCATION;VALUE=URI;X-ADDRESS=2267 Massachusetts Ave\, Ca
 mbridge\, MA\, 02140\, United States;X-APPLE-RADIUS=100;X-TITLE=2267 Massa
 chusetts Ave:geo:42.394574,-71.126737
END:VEVENT
BEGIN:VTIMEZONE
TZID:America/Detroit
X-LIC-LOCATION:America/Detroit
BEGIN:DAYLIGHT
DTSTART:20250309T030000
TZOFFSETFROM:-0500
TZOFFSETTO:-0400
TZNAME:EDT
END:DAYLIGHT
END:VTIMEZONE
END:VCALENDAR