BEGIN:VCALENDAR
VERSION:2.0
PRODID:-//wp-events-plugin.com//7.2.3.1//EN
TZID:America/Detroit
X-WR-TIMEZONE:America/Detroit
BEGIN:VEVENT
UID:34985@arabamerica.com
DTSTART;TZID=America/Los_Angeles:20250816T210000
DTEND;TZID=America/Los_Angeles:20250816T233000
DTSTAMP:20250813T002754Z
URL:https://www.arabamerica.com/events/the-basics-of-henna-designing-works
 hop-2/
SUMMARY:The Basics of Henna Designing Workshop
DESCRIPTION:SANTA CLARA\, CA\n\n&nbsp\;\n\n\nJoin us for a workshop with Ze
 ba’s Mehendi Designs and learn the basics of henna designing\, handling 
 techniques\, and cultural significance!\n\n\n\n\n\n\nAt Zeba’s Mehendi D
 esigns\, we specialize in creating intricate and high-quality henna design
 s\, providing exceptional services for brides\, events\, and custom design
 s. With over 15 years of experience and having worked with hundreds of bri
 des across India and the U.S.\, we are committed to using only premium nat
 ural henna to ensure safe\, beautiful\, and long-lasting designs.\n\nIn ad
 dition to our bespoke henna services\, we offer workshops designed to teac
 h the art of henna to beginners and advanced enthusiasts alike. Led by exp
 ert artist Zeba Fathima\, these hands-on sessions provide personalized gu
 idance and teach everything from basic techniques to intricate designs. Wh
 ether you’re preparing for a special occasion or looking to deepen your 
 skills\, we provide an immersive experience that celebrates the timeless b
 eauty of henna.\n\n\n
ATTACH;FMTTYPE=image/jpeg:https://www.arabamerica.com/wp-content/uploads/2
 025/08/basics-of-henna_workshop.png
LOCATION:Jiaren Cafe\, 1171 Homestead Road #140b\, Santa Clara\, CA\, 95050
 \, United States
GEO:37.34856;-121.945734
X-APPLE-STRUCTURED-LOCATION;VALUE=URI;X-ADDRESS=1171 Homestead Road #140b\,
  Santa Clara\, CA\, 95050\, United States;X-APPLE-RADIUS=100;X-TITLE=Jiare
 n Cafe:geo:37.34856,-121.945734
END:VEVENT
BEGIN:VTIMEZONE
TZID:America/Los_Angeles
X-LIC-LOCATION:America/Los_Angeles
BEGIN:DAYLIGHT
DTSTART:20250309T030000
TZOFFSETFROM:-0800
TZOFFSETTO:-0700
TZNAME:PDT
END:DAYLIGHT
END:VTIMEZONE
END:VCALENDAR