BEGIN:VCALENDAR
VERSION:2.0
PRODID:-//wp-events-plugin.com//7.2.3.1//EN
TZID:America/Detroit
X-WR-TIMEZONE:America/Detroit
BEGIN:VEVENT
UID:34484@arabamerica.com
DTSTART;TZID=America/Detroit:20250614T110000
DTEND;TZID=America/Detroit:20250614T160000
DTSTAMP:20250602T144957Z
URL:https://www.arabamerica.com/events/the-brookline-eid-fair/
SUMMARY:The Brookline Eid Fair
DESCRIPTION:BROOKLINE\, MA\n\nCelebrating the cultures and diversity of the
  Muslim world. Free and open to all with dance\, music\, henna\, halal foo
 d\, and a bazaar.
ATTACH;FMTTYPE=image/jpeg:https://www.arabamerica.com/wp-content/uploads/2
 025/06/Screenshot-2025-06-02-074931.png
CATEGORIES:Eid Al-Adha
LOCATION:Brookline Town Hall\, 333 Washington St.\, Brookline\, MA\, 02445\
 , United States
GEO:42.333954;-71.120593
X-APPLE-STRUCTURED-LOCATION;VALUE=URI;X-ADDRESS=333 Washington St.\, Brookl
 ine\, MA\, 02445\, United States;X-APPLE-RADIUS=100;X-TITLE=Brookline Town
  Hall:geo:42.333954,-71.120593
END:VEVENT
BEGIN:VTIMEZONE
TZID:America/Detroit
X-LIC-LOCATION:America/Detroit
BEGIN:DAYLIGHT
DTSTART:20250309T030000
TZOFFSETFROM:-0500
TZOFFSETTO:-0400
TZNAME:EDT
END:DAYLIGHT
END:VTIMEZONE
END:VCALENDAR