BEGIN:VCALENDAR
VERSION:2.0
PRODID:-//wp-events-plugin.com//7.2.3.1//EN
TZID:America/Detroit
X-WR-TIMEZONE:America/Detroit
BEGIN:VEVENT
UID:30729@arabamerica.com
DTSTART;TZID=America/Detroit:20230419T133000
DTEND;TZID=America/Detroit:20230419T133000
DTSTAMP:20230321T004513Z
URL:https://www.arabamerica.com/events/the-collectors-daughter-a-novel-of-
 the-discovery-of-tutankhamuns-tomb/
SUMMARY:The Collector’s Daughter: A Novel Of The Discovery Of Tutankhamun
 ’s Tomb
DESCRIPTION:\n\n\nPALM BEACH\, FL\n\nNo charge\nReservations Required – o
 pen to Four Arts members August 15\,\ngeneral public August 22\n\n\n\n\nPa
 trons may choose to attend this event in-person or remotely via a Zoom pre
 sentation. For those who prefer to view the event from home\, please regis
 ter for the virtual option. After registering\, you will receive an email 
 with instructions on how to view the presentation.\n\nAuthor: Gill Paul\n\
 nFacilitator: Carole Pichney\n\nPlease note this is a book discussion with
 out the author present.\n\n\n\n\n\n\nShe is the daughter of the Earl of Ca
 rnarvon\, brought up to make her society debut and follow it with a presti
 gious marriage. But popular and pretty Lady Evelyn Herbert has other ideas
 . First\, she falls for a man her mother doesn’t approve of\, then she a
 ccompanies her father to Egypt\, leaving behind the world of etiquette and
  chaperones to work alongside archeologist Howard Carter in the Valley of 
 the Kings.\n\nIn November 1922 the extraordinary happens when they discove
 r the burial place of Tutankhamun\, packed full of gold and inconceivable 
 riches. Eve is the first to crawl inside\, the first person to see the tre
 asures in three thousand years. She calls it the “greatest moment” of 
 her life—but soon afterwards a string of tragedies leaves her world a da
 rker\, sadder place.\n\nNewspapers claim it is “the curse of Tutankhamun
 .” Howard Carter says no rational person would entertain such nonsense. 
 Fifty years later\, an Egyptian academic comes asking questions about what
  really happened in the tomb in 1922. And that visit unleashes a new chain
  of events threatening Eve’s happy life\, and making her wonder if there
  could be some truth behind the stories of an ancient curse.\n\n\n\n\n\n\n
 \n
ATTACH;FMTTYPE=image/jpeg:https://www.arabamerica.com/wp-content/uploads/2
 023/03/Screenshot-2023-03-20-at-7.36.44-PM.png
CATEGORIES:Community,culture,Discussion,Lecture,Music/Folk/World
LOCATION:King Library\, 101 Four Arts Plaza\, Palm Beach\, FL\, United Stat
 es
GEO:26.70645;-80.042102
X-APPLE-STRUCTURED-LOCATION;VALUE=URI;X-ADDRESS=101 Four Arts Plaza\, Palm 
 Beach\, FL\, United States;X-APPLE-RADIUS=100;X-TITLE=King Library:geo:26.
 70645,-80.042102
END:VEVENT
BEGIN:VTIMEZONE
TZID:America/Detroit
X-LIC-LOCATION:America/Detroit
BEGIN:DAYLIGHT
DTSTART:20230312T030000
TZOFFSETFROM:-0500
TZOFFSETTO:-0400
TZNAME:EDT
END:DAYLIGHT
END:VTIMEZONE
END:VCALENDAR