BEGIN:VCALENDAR
VERSION:2.0
PRODID:-//wp-events-plugin.com//7.2.3.1//EN
TZID:America/Detroit
X-WR-TIMEZONE:America/Detroit
BEGIN:VEVENT
UID:36227@arabamerica.com
DTSTART;TZID=America/New_York:20260610T180000
DTEND;TZID=America/New_York:20260610T193000
DTSTAMP:20260421T173537Z
URL:https://www.arabamerica.com/events/the-complicit-lens-us-media-coverag
 e-of-israels-genocide-in-gaza/
SUMMARY:The Complicit Lens: US Media Coverage of Israel’s Genocide in Gaz
 a
DESCRIPTION:New York\, NY\n\n\n\nLaunch of The Complicit Lens with Rashid K
 halidi and Robin Andersen\n\n\n\n\n\n\nJoin the livestream\n\nThe Complici
 t Lens\n\nThis vitally necessary and carefully researched book examines th
 e way US establishment media ran interference for Israel’s ongoing genoc
 ide in Gaza\, aligning its coverage with Israeli military narratives whils
 t downplaying\, and even condoning\, the wholesale massacre of Palestinian
 s.\n\nCommencing with the October 7\, 2023\, attack\, The Complicit Lens s
 crutinizes mainstream journalism\, contrasting it with social media report
 s and international news coverage. It reveals how legacy media presented I
 sraeli violence as defensive and justified\, casting doubt on IDF bombings
 \, employing passive language to deflect blame for atrocities\, and repeat
 ing Israeli talking points\, often word-for-word. Massacres of those seeki
 ng food became “aid-related deaths\,” whilst missile attacks on tented
  refugees were “tragic mistakes.” Meanwhile\, well-worn tropes of war 
 propaganda\, including claims of the beheading of babies and mass rapes\, 
 subsequently revealed to be without foundation\, were used to justify Isra
 eli actions and obscure culpability.\n\nAndersen documents the targeting o
 f journalists and aid workers in what has become the deadliest conflict fo
 r each on record. She spotlights the editorial censorship that prohibited 
 the use of terms such as “genocide” and “massacre” in the reportin
 g of Palestinian deaths. And\, as global protests against the Gaza genocid
 e gathered strength\, she examines the hostile media portrayal of these up
 risings\, particularly those led by young people and Jewish organizations.
 \n\n\n
ATTACH;FMTTYPE=image/jpeg:https://www.arabamerica.com/wp-content/uploads/2
 026/04/image-67.webp
CATEGORIES:Community,culture
END:VEVENT
BEGIN:VTIMEZONE
TZID:America/New_York
X-LIC-LOCATION:America/New_York
BEGIN:DAYLIGHT
DTSTART:20260308T030000
TZOFFSETFROM:-0500
TZOFFSETTO:-0400
TZNAME:EDT
END:DAYLIGHT
END:VTIMEZONE
END:VCALENDAR