BEGIN:VCALENDAR
VERSION:2.0
PRODID:-//wp-events-plugin.com//7.2.3.1//EN
TZID:America/Detroit
X-WR-TIMEZONE:America/Detroit
BEGIN:VEVENT
UID:35571@arabamerica.com
DTSTART;TZID=America/Detroit:20260124T183000
DTEND;TZID=America/Detroit:20260124T223000
DTSTAMP:20251216T170551Z
URL:https://www.arabamerica.com/events/the-crescent-ball/
SUMMARY:The Crescent Ball
DESCRIPTION:\n\nOverview\n\n\n\n\n\nDress to the nines &amp\; join us in ce
 lebrating Muslim Heritage Month in Connecticut at The Crescent Ball 2026.\
 n\n\n\n\nThis January will be the first since the month was designated as 
 Muslim Heritage Month and our aim is to connect Muslims from across the st
 ate through a unique Muslim-exclusive eventspace. We are beyond proud &am
 p\; excited to offer this inaugural event to celebrate!\n\nCome &amp\; enj
 oy a night of delicious halal food\, talented performances - and best-of-a
 ll being surrounded by our amazing Connecticut Muslim community.\n\n\n\n\n
 \n
LOCATION:Pond House Cafe\, 1555 Asylum Avenue\, West Hartford\, CT\, 06117\
 , United States
GEO:41.776286;-72.718294
X-APPLE-STRUCTURED-LOCATION;VALUE=URI;X-ADDRESS=1555 Asylum Avenue\, West H
 artford\, CT\, 06117\, United States;X-APPLE-RADIUS=100;X-TITLE=Pond House
  Cafe:geo:41.776286,-72.718294
END:VEVENT
BEGIN:VTIMEZONE
TZID:America/Detroit
X-LIC-LOCATION:America/Detroit
BEGIN:STANDARD
DTSTART:20251102T010000
TZOFFSETFROM:-0400
TZOFFSETTO:-0500
TZNAME:EST
END:STANDARD
END:VTIMEZONE
END:VCALENDAR